Workbook

Sheet Equities
A1: Stocks
A2: Stock | B2: Epic | C2: L/S | D2: Qty | E2: Entry price | F2: Target | G2: Stop | H2: Capital | I2: Cap. Risk | J2: Cap. Risk % | K2: R/R Ratio | L2: Entry date: | M2: time | N2: Exit date: | O2: time | P2: Exit price | Q2: P/L | R2: Com+Stamp | S2: Net P/L | T2: % P/L Cap | U2: R multiple | V2: $ at work | W2: # | X2: W/L | Y2: Sum W | Z2: Strategy | AA2: Reason for success / fail | AB2: Comment | AC2: Analysis
A3: APPLE | B3: AAPL | C3: L | D3: 10 | E3: 25 | F3: 26 | G3: 0.5 | H3: 1000 | I3: =IF(G3=0,"",IF(C3="L",E3-G3,G3-E3)*D3) -> 245 | J3: =IFERROR(IF(H3=0,"",I3/H3),"") -> 0.245 | K3: =IFERROR(ROUND(IF(I3=0,"0",IF(C3="L",F3*D3-E3*D3,E3*D3-F3*D3)/I3),1),"") -> 0 | L3: 40544 | M3: 0.45833333 | N3: 40544 | O3: 0.47916667 | P3: 26.25 | Q3: =IF(H3=0,"",IF(C3="L",P3*D3-E3*D3,E3*D3-P3*D3)) -> 12.5 | R3: 0 | S3: =IF(H3=0,"",Q3-R3) -> 12.5 | T3: =IF(D3=0,"",S3/H3) -> 0.0125 | U3: =IF(H3=0,"",S3/I3) -> 0.051020408 | V3: =IF(H3=0,"",E3*D3) -> 250 | W3: =IF(D3=0,"",#REF!+1) -> #REF! | X3: =IF(D3=0,"",IF(S3>0,1,0)) -> 1 | Y3: =IF(D3=0,"",SUM(X3+#REF!)) -> #REF! | Z3: AON | AA3: TECHNICAL RESEARCH | AB3: FIRST TRADE EVER | AC3: Total net P/L | AD3: =SUM(S3:S202) -> 12.5
I4: =IF(G4=0,"",IF(C4="L",E4-G4,G4-E4)*D4) | J4: =IFERROR(IF(H4=0,"",I4/H4),"") | K4: =IFERROR(ROUND(IF(I4=0,"0",IF(C4="L",F4*D4-E4*D4,E4*D4-F4*D4)/I4),1),"") | Q4: =IF(H4=0,"",IF(C4="L",P4*D4-E4*D4,E4*D4-P4*D4)) | R4: =IF(H4=0,"",0.5*V4/100+16) | S4: =IF(H4=0,"",Q4-R4) | T4: =IF(D4=0,"",S4/H4) | U4: =IF(H4=0,"",S4/I4) | V4: =IF(H4=0,"",E4*D4) | W4: =IF(D4=0,"",W3+1) | X4: =IF(D4=0,"",IF(S4>0,1,0)) | Y4: =IF(D4=0,"",SUM(X4+Y3)) | AC4: Gross P/L | AD4: =SUM(Q3:Q202) -> 12.5
I5: =IF(G5=0,"",IF(C5="L",E5-G5,G5-E5)*D5) | J5: =IFERROR(IF(H5=0,"",I5/H5),"") | K5: =IFERROR(ROUND(IF(I5=0,"0",IF(C5="L",F5*D5-E5*D5,E5*D5-F5*D5)/I5),1),"") | Q5: =IF(H5=0,"",IF(C5="L",P5*D5-E5*D5,E5*D5-P5*D5)) | R5: =IF(H5=0,"",0.5*V5/100+16) | S5: =IF(H5=0,"",Q5-R5) | T5: =IF(D5=0,"",S5/H5) | U5: =IF(H5=0,"",S5/I5) | V5: =IF(H5=0,"",E5*D5) | W5: =IF(D5=0,"",W4+1) | X5: =IF(D5=0,"",IF(S5>0,1,0)) | Y5: =IF(D5=0,"",SUM(X5+Y4)) | AC5: Total points W/L | AD5: =SUM(P3:P202) -> 26.25
I6: =IF(G6=0,"",IF(C6="L",E6-G6,G6-E6)*D6) | J6: =IFERROR(IF(H6=0,"",I6/H6),"") | K6: =IFERROR(ROUND(IF(I6=0,"0",IF(C6="L",F6*D6-E6*D6,E6*D6-F6*D6)/I6),1),"") | Q6: =IF(H6=0,"",IF(C6="L",P6*D6-E6*D6,E6*D6-P6*D6)) | R6: =IF(H6=0,"",0.5*V6/100+16) | S6: =IF(H6=0,"",Q6-R6) | T6: =IF(D6=0,"",S6/H6) | U6: =IF(H6=0,"",S6/I6) | V6: =IF(H6=0,"",E6*D6) | W6: =IF(D6=0,"",W5+1) | X6: =IF(D6=0,"",IF(S6>0,1,0)) | Y6: =IF(D6=0,"",SUM(X6+Y5)) | AC6: % of winners | AD6: =IFERROR(AD11/AD13,"0") -> 1
I7: =IF(G7=0,"",IF(C7="L",E7-G7,G7-E7)*D7) | J7: =IFERROR(IF(H7=0,"",I7/H7),"") | K7: =IFERROR(ROUND(IF(I7=0,"0",IF(C7="L",F7*D7-E7*D7,E7*D7-F7*D7)/I7),1),"") | Q7: =IF(H7=0,"",IF(C7="L",P7*D7-E7*D7,E7*D7-P7*D7)) | R7: =IF(H7=0,"",0.5*V7/100+16) | S7: =IF(H7=0,"",Q7-R7) | T7: =IF(D7=0,"",S7/H7) | U7: =IF(H7=0,"",S7/I7) | V7: =IF(H7=0,"",E7*D7) | W7: =IF(D7=0,"",W6+1) | X7: =IF(D7=0,"",IF(S7>0,1,0)) | Y7: =IF(D7=0,"",SUM(X7+Y6)) | AC7: % of losers | AD7: =IFERROR(AD12/AD13,"0") -> 0
I8: =IF(G8=0,"",IF(C8="L",E8-G8,G8-E8)*D8) | J8: =IFERROR(IF(H8=0,"",I8/H8),"") | K8: =IFERROR(ROUND(IF(I8=0,"0",IF(C8="L",F8*D8-E8*D8,E8*D8-F8*D8)/I8),1),"") | Q8: =IF(H8=0,"",IF(C8="L",P8*D8-E8*D8,E8*D8-P8*D8)) | R8: =IF(H8=0,"",0.5*V8/100+16) | S8: =IF(H8=0,"",Q8-R8) | T8: =IF(D8=0,"",S8/H8) | U8: =IF(H8=0,"",S8/I8) | V8: =IF(H8=0,"",E8*D8) | W8: =IF(D8=0,"",W7+1) | X8: =IF(D8=0,"",IF(S8>0,1,0)) | Y8: =IF(D8=0,"",SUM(X8+Y7)) | AC8: Avg P/L per trade | AD8: =IFERROR(AD3/AD13,"0") -> 12.5
I9: =IF(G9=0,"",IF(C9="L",E9-G9,G9-E9)*D9) | J9: =IFERROR(IF(H9=0,"",I9/H9),"") | K9: =IFERROR(ROUND(IF(I9=0,"0",IF(C9="L",F9*D9-E9*D9,E9*D9-F9*D9)/I9),1),"") | Q9: =IF(H9=0,"",IF(C9="L",P9*D9-E9*D9,E9*D9-P9*D9)) | R9: =IF(H9=0,"",0.5*V9/100+16) | S9: =IF(H9=0,"",Q9-R9) | T9: =IF(D9=0,"",S9/H9) | U9: =IF(H9=0,"",S9/I9) | V9: =IF(H9=0,"",E9*D9) | W9: =IF(D9=0,"",W8+1) | X9: =IF(D9=0,"",IF(S9>0,1,0)) | Y9: =IF(D9=0,"",SUM(X9+Y8)) | AC9: Avg % loss on losers | AD9: =IFERROR(AVERAGEIF(X3:X202,"=0",T3:T202),"0") -> 0
I10: =IF(G10=0,"",IF(C10="L",E10-G10,G10-E10)*D10) | J10: =IFERROR(IF(H10=0,"",I10/H10),"") | K10: =IFERROR(ROUND(IF(I10=0,"0",IF(C10="L",F10*D10-E10*D10,E10*D10-F10*D10)/I10),1),"") | Q10: =IF(H10=0,"",IF(C10="L",P10*D10-E10*D10,E10*D10-P10*D10)) | R10: =IF(H10=0,"",0.5*V10/100+16) | S10: =IF(H10=0,"",Q10-R10) | T10: =IF(D10=0,"",S10/H10) | U10: =IF(H10=0,"",S10/I10) | V10: =IF(H10=0,"",E10*D10) | W10: =IF(D10=0,"",W9+1) | X10: =IF(D10=0,"",IF(S10>0,1,0)) | Y10: =IF(D10=0,"",SUM(X10+Y9)) | AC10: Avg % profit on winners | AD10: =IFERROR(AVERAGEIF(X3:X202,"=1",T3:T202),"0") -> 0.0125
I11: =IF(G11=0,"",IF(C11="L",E11-G11,G11-E11)*D11) | J11: =IFERROR(IF(H11=0,"",I11/H11),"") | K11: =IFERROR(ROUND(IF(I11=0,"0",IF(C11="L",F11*D11-E11*D11,E11*D11-F11*D11)/I11),1),"") | Q11: =IF(H11=0,"",IF(C11="L",P11*D11-E11*D11,E11*D11-P11*D11)) | R11: =IF(H11=0,"",0.5*V11/100+16) | S11: =IF(H11=0,"",Q11-R11) | T11: =IF(D11=0,"",S11/H11) | U11: =IF(H11=0,"",S11/I11) | V11: =IF(H11=0,"",E11*D11) | W11: =IF(D11=0,"",W10+1) | X11: =IF(D11=0,"",IF(S11>0,1,0)) | Y11: =IF(D11=0,"",SUM(X11+Y10)) | AC11: Number of winners | AD11: =SUM(X3:X202) -> 1
I12: =IF(G12=0,"",IF(C12="L",E12-G12,G12-E12)*D12) | J12: =IFERROR(IF(H12=0,"",I12/H12),"") | K12: =IFERROR(ROUND(IF(I12=0,"0",IF(C12="L",F12*D12-E12*D12,E12*D12-F12*D12)/I12),1),"") | Q12: =IF(H12=0,"",IF(C12="L",P12*D12-E12*D12,E12*D12-P12*D12)) | R12: =IF(H12=0,"",0.5*V12/100+16) | S12: =IF(H12=0,"",Q12-R12) | T12: =IF(D12=0,"",S12/H12) | U12: =IF(H12=0,"",S12/I12) | V12: =IF(H12=0,"",E12*D12) | W12: =IF(D12=0,"",W11+1) | X12: =IF(D12=0,"",IF(S12>0,1,0)) | Y12: =IF(D12=0,"",SUM(X12+Y11)) | AC12: Number of losers | AD12: =COUNTIF(X3:X202,0) -> 0
I13: =IF(G13=0,"",IF(C13="L",E13-G13,G13-E13)*D13) | J13: =IFERROR(IF(H13=0,"",I13/H13),"") | K13: =IFERROR(ROUND(IF(I13=0,"0",IF(C13="L",F13*D13-E13*D13,E13*D13-F13*D13)/I13),1),"") | Q13: =IF(H13=0,"",IF(C13="L",P13*D13-E13*D13,E13*D13-P13*D13)) | R13: =IF(H13=0,"",0.5*V13/100+16) | S13: =IF(H13=0,"",Q13-R13) | T13: =IF(D13=0,"",S13/H13) | U13: =IF(H13=0,"",S13/I13) | V13: =IF(H13=0,"",E13*D13) | W13: =IF(D13=0,"",W12+1) | X13: =IF(D13=0,"",IF(S13>0,1,0)) | Y13: =IF(D13=0,"",SUM(X13+Y12)) | AC13: Number of trades | AD13: =SUM(AD11:AD12) -> 1
I14: =IF(G14=0,"",IF(C14="L",E14-G14,G14-E14)*D14) | J14: =IFERROR(IF(H14=0,"",I14/H14),"") | K14: =IFERROR(ROUND(IF(I14=0,"0",IF(C14="L",F14*D14-E14*D14,E14*D14-F14*D14)/I14),1),"") | Q14: =IF(H14=0,"",IF(C14="L",P14*D14-E14*D14,E14*D14-P14*D14)) | R14: =IF(H14=0,"",0.5*V14/100+16) | S14: =IF(H14=0,"",Q14-R14) | T14: =IF(D14=0,"",S14/H14) | U14: =IF(H14=0,"",S14/I14) | V14: =IF(H14=0,"",E14*D14) | W14: =IF(D14=0,"",W13+1) | X14: =IF(D14=0,"",IF(S14>0,1,0)) | Y14: =IF(D14=0,"",SUM(X14+Y13)) | AC14: Hours spent | AD14: 1
I15: =IF(G15=0,"",IF(C15="L",E15-G15,G15-E15)*D15) | J15: =IFERROR(IF(H15=0,"",I15/H15),"") | K15: =IFERROR(ROUND(IF(I15=0,"0",IF(C15="L",F15*D15-E15*D15,E15*D15-F15*D15)/I15),1),"") | Q15: =IF(H15=0,"",IF(C15="L",P15*D15-E15*D15,E15*D15-P15*D15)) | R15: =IF(H15=0,"",0.5*V15/100+16) | S15: =IF(H15=0,"",Q15-R15) | T15: =IF(D15=0,"",S15/H15) | U15: =IF(H15=0,"",S15/I15) | V15: =IF(H15=0,"",E15*D15) | W15: =IF(D15=0,"",W14+1) | X15: =IF(D15=0,"",IF(S15>0,1,0)) | Y15: =IF(D15=0,"",SUM(X15+Y14)) | AC15: P/L per hour | AD15: =AD3/AD14 -> 12.5
I16: =IF(G16=0,"",IF(C16="L",E16-G16,G16-E16)*D16) | J16: =IFERROR(IF(H16=0,"",I16/H16),"") | K16: =IFERROR(ROUND(IF(I16=0,"0",IF(C16="L",F16*D16-E16*D16,E16*D16-F16*D16)/I16),1),"") | Q16: =IF(H16=0,"",IF(C16="L",P16*D16-E16*D16,E16*D16-P16*D16)) | R16: =IF(H16=0,"",0.5*V16/100+16) | S16: =IF(H16=0,"",Q16-R16) | T16: =IF(D16=0,"",S16/H16) | U16: =IF(H16=0,"",S16/I16) | V16: =IF(H16=0,"",E16*D16) | W16: =IF(D16=0,"",W15+1) | X16: =IF(D16=0,"",IF(S16>0,1,0)) | Y16: =IF(D16=0,"",SUM(X16+Y15)) | AC16: Total net profits | AD16: =SUMIF(X3:X202,">0",S3:S202) -> 12.5
I17: =IF(G17=0,"",IF(C17="L",E17-G17,G17-E17)*D17) | J17: =IFERROR(IF(H17=0,"",I17/H17),"") | K17: =IFERROR(ROUND(IF(I17=0,"0",IF(C17="L",F17*D17-E17*D17,E17*D17-F17*D17)/I17),1),"") | Q17: =IF(H17=0,"",IF(C17="L",P17*D17-E17*D17,E17*D17-P17*D17)) | R17: =IF(H17=0,"",0.5*V17/100+16) | S17: =IF(H17=0,"",Q17-R17) | T17: =IF(D17=0,"",S17/H17) | U17: =IF(H17=0,"",S17/I17) | V17: =IF(H17=0,"",E17*D17) | W17: =IF(D17=0,"",W16+1) | X17: =IF(D17=0,"",IF(S17>0,1,0)) | Y17: =IF(D17=0,"",SUM(X17+Y16)) | AC17: Total net losses | AD17: =SUMIF(X3:X202,"=0",S3:S202) -> 0
I18: =IF(G18=0,"",IF(C18="L",E18-G18,G18-E18)*D18) | J18: =IFERROR(IF(H18=0,"",I18/H18),"") | K18: =IFERROR(ROUND(IF(I18=0,"0",IF(C18="L",F18*D18-E18*D18,E18*D18-F18*D18)/I18),1),"") | Q18: =IF(H18=0,"",IF(C18="L",P18*D18-E18*D18,E18*D18-P18*D18)) | R18: =IF(H18=0,"",0.5*V18/100+16) | S18: =IF(H18=0,"",Q18-R18) | T18: =IF(D18=0,"",S18/H18) | U18: =IF(H18=0,"",S18/I18) | V18: =IF(H18=0,"",E18*D18) | W18: =IF(D18=0,"",W17+1) | X18: =IF(D18=0,"",IF(S18>0,1,0)) | Y18: =IF(D18=0,"",SUM(X18+Y17)) | AC18: Total % gains | AD18: =SUMIF(X3:X202,">0",T3:T202) -> 0.0125
I19: =IF(G19=0,"",IF(C19="L",E19-G19,G19-E19)*D19) | J19: =IFERROR(IF(H19=0,"",I19/H19),"") | K19: =IFERROR(ROUND(IF(I19=0,"0",IF(C19="L",F19*D19-E19*D19,E19*D19-F19*D19)/I19),1),"") | Q19: =IF(H19=0,"",IF(C19="L",P19*D19-E19*D19,E19*D19-P19*D19)) | R19: =IF(H19=0,"",0.5*V19/100+16) | S19: =IF(H19=0,"",Q19-R19) | T19: =IF(D19=0,"",S19/H19) | U19: =IF(H19=0,"",S19/I19) | V19: =IF(H19=0,"",E19*D19) | W19: =IF(D19=0,"",W18+1) | X19: =IF(D19=0,"",IF(S19>0,1,0)) | Y19: =IF(D19=0,"",SUM(X19+Y18)) | AC19: Total % losses | AD19: =SUMIF(X3:X202,"=0",T3:T202) -> 0
I20: =IF(G20=0,"",IF(C20="L",E20-G20,G20-E20)*D20) | J20: =IFERROR(IF(H20=0,"",I20/H20),"") | K20: =IFERROR(ROUND(IF(I20=0,"0",IF(C20="L",F20*D20-E20*D20,E20*D20-F20*D20)/I20),1),"") | Q20: =IF(H20=0,"",IF(C20="L",P20*D20-E20*D20,E20*D20-P20*D20)) | R20: =IF(H20=0,"",0.5*V20/100+16) | S20: =IF(H20=0,"",Q20-R20) | T20: =IF(D20=0,"",S20/H20) | U20: =IF(H20=0,"",S20/I20) | V20: =IF(H20=0,"",E20*D20) | W20: =IF(D20=0,"",W19+1) | X20: =IF(D20=0,"",IF(S20>0,1,0)) | Y20: =IF(D20=0,"",SUM(X20+Y19)) | AC20: Risk/reward ratio | AD20: =IFERROR(AVERAGEIF(D3:D202,">0",K3:K202),"0") -> 0
I21: =IF(G21=0,"",IF(C21="L",E21-G21,G21-E21)*D21) | J21: =IFERROR(IF(H21=0,"",I21/H21),"") | K21: =IFERROR(ROUND(IF(I21=0,"0",IF(C21="L",F21*D21-E21*D21,E21*D21-F21*D21)/I21),1),"") | Q21: =IF(H21=0,"",IF(C21="L",P21*D21-E21*D21,E21*D21-P21*D21)) | R21: =IF(H21=0,"",0.5*V21/100+16) | S21: =IF(H21=0,"",Q21-R21) | T21: =IF(D21=0,"",S21/H21) | U21: =IF(H21=0,"",S21/I21) | V21: =IF(H21=0,"",E21*D21) | W21: =IF(D21=0,"",W20+1) | X21: =IF(D21=0,"",IF(S21>0,1,0)) | Y21: =IF(D21=0,"",SUM(X21+Y20)) | AC21: Expectancy | AD21: =IFERROR(AVERAGE(U3:U202),"0") -> 0.051020408
I22: =IF(G22=0,"",IF(C22="L",E22-G22,G22-E22)*D22) | J22: =IFERROR(IF(H22=0,"",I22/H22),"") | K22: =IFERROR(ROUND(IF(I22=0,"0",IF(C22="L",F22*D22-E22*D22,E22*D22-F22*D22)/I22),1),"") | Q22: =IF(H22=0,"",IF(C22="L",P22*D22-E22*D22,E22*D22-P22*D22)) | R22: =IF(H22=0,"",0.5*V22/100+16) | S22: =IF(H22=0,"",Q22-R22) | T22: =IF(D22=0,"",S22/H22) | U22: =IF(H22=0,"",S22/I22) | V22: =IF(H22=0,"",E22*D22) | W22: =IF(D22=0,"",W21+1) | X22: =IF(D22=0,"",IF(S22>0,1,0)) | Y22: =IF(D22=0,"",SUM(X22+Y21))
I23: =IF(G23=0,"",IF(C23="L",E23-G23,G23-E23)*D23) | J23: =IFERROR(IF(H23=0,"",I23/H23),"") | K23: =IFERROR(ROUND(IF(I23=0,"0",IF(C23="L",F23*D23-E23*D23,E23*D23-F23*D23)/I23),1),"") | Q23: =IF(H23=0,"",IF(C23="L",P23*D23-E23*D23,E23*D23-P23*D23)) | R23: =IF(H23=0,"",0.5*V23/100+16) | S23: =IF(H23=0,"",Q23-R23) | T23: =IF(D23=0,"",S23/H23) | U23: =IF(H23=0,"",S23/I23) | V23: =IF(H23=0,"",E23*D23) | W23: =IF(D23=0,"",W22+1) | X23: =IF(D23=0,"",IF(S23>0,1,0)) | Y23: =IF(D23=0,"",SUM(X23+Y22))
I24: =IF(G24=0,"",IF(C24="L",E24-G24,G24-E24)*D24) | J24: =IFERROR(IF(H24=0,"",I24/H24),"") | K24: =IFERROR(ROUND(IF(I24=0,"0",IF(C24="L",F24*D24-E24*D24,E24*D24-F24*D24)/I24),1),"") | Q24: =IF(H24=0,"",IF(C24="L",P24*D24-E24*D24,E24*D24-P24*D24)) | R24: =IF(H24=0,"",0.5*V24/100+16) | S24: =IF(H24=0,"",Q24-R24) | T24: =IF(D24=0,"",S24/H24) | U24: =IF(H24=0,"",S24/I24) | V24: =IF(H24=0,"",E24*D24) | W24: =IF(D24=0,"",W23+1) | X24: =IF(D24=0,"",IF(S24>0,1,0)) | Y24: =IF(D24=0,"",SUM(X24+Y23))
I25: =IF(G25=0,"",IF(C25="L",E25-G25,G25-E25)*D25) | J25: =IFERROR(IF(H25=0,"",I25/H25),"") | K25: =IFERROR(ROUND(IF(I25=0,"0",IF(C25="L",F25*D25-E25*D25,E25*D25-F25*D25)/I25),1),"") | Q25: =IF(H25=0,"",IF(C25="L",P25*D25-E25*D25,E25*D25-P25*D25)) | R25: =IF(H25=0,"",0.5*V25/100+16) | S25: =IF(H25=0,"",Q25-R25) | T25: =IF(D25=0,"",S25/H25) | U25: =IF(H25=0,"",S25/I25) | V25: =IF(H25=0,"",E25*D25) | W25: =IF(D25=0,"",W24+1) | X25: =IF(D25=0,"",IF(S25>0,1,0)) | Y25: =IF(D25=0,"",SUM(X25+Y24))
I26: =IF(G26=0,"",IF(C26="L",E26-G26,G26-E26)*D26) | J26: =IFERROR(IF(H26=0,"",I26/H26),"") | K26: =IFERROR(ROUND(IF(I26=0,"0",IF(C26="L",F26*D26-E26*D26,E26*D26-F26*D26)/I26),1),"") | Q26: =IF(H26=0,"",IF(C26="L",P26*D26-E26*D26,E26*D26-P26*D26)) | R26: =IF(H26=0,"",0.5*V26/100+16) | S26: =IF(H26=0,"",Q26-R26) | T26: =IF(D26=0,"",S26/H26) | U26: =IF(H26=0,"",S26/I26) | V26: =IF(H26=0,"",E26*D26) | W26: =IF(D26=0,"",W25+1) | X26: =IF(D26=0,"",IF(S26>0,1,0)) | Y26: =IF(D26=0,"",SUM(X26+Y25))
I27: =IF(G27=0,"",IF(C27="L",E27-G27,G27-E27)*D27) | J27: =IFERROR(IF(H27=0,"",I27/H27),"") | K27: =IFERROR(ROUND(IF(I27=0,"0",IF(C27="L",F27*D27-E27*D27,E27*D27-F27*D27)/I27),1),"") | Q27: =IF(H27=0,"",IF(C27="L",P27*D27-E27*D27,E27*D27-P27*D27)) | R27: =IF(H27=0,"",0.5*V27/100+16) | S27: =IF(H27=0,"",Q27-R27) | T27: =IF(D27=0,"",S27/H27) | U27: =IF(H27=0,"",S27/I27) | V27: =IF(H27=0,"",E27*D27) | W27: =IF(D27=0,"",W26+1) | X27: =IF(D27=0,"",IF(S27>0,1,0)) | Y27: =IF(D27=0,"",SUM(X27+Y26))
I28: =IF(G28=0,"",IF(C28="L",E28-G28,G28-E28)*D28) | J28: =IFERROR(IF(H28=0,"",I28/H28),"") | K28: =IFERROR(ROUND(IF(I28=0,"0",IF(C28="L",F28*D28-E28*D28,E28*D28-F28*D28)/I28),1),"") | Q28: =IF(H28=0,"",IF(C28="L",P28*D28-E28*D28,E28*D28-P28*D28)) | R28: =IF(H28=0,"",0.5*V28/100+16) | S28: =IF(H28=0,"",Q28-R28) | T28: =IF(D28=0,"",S28/H28) | U28: =IF(H28=0,"",S28/I28) | V28: =IF(H28=0,"",E28*D28) | W28: =IF(D28=0,"",W27+1) | X28: =IF(D28=0,"",IF(S28>0,1,0)) | Y28: =IF(D28=0,"",SUM(X28+Y27))
I29: =IF(G29=0,"",IF(C29="L",E29-G29,G29-E29)*D29) | J29: =IFERROR(IF(H29=0,"",I29/H29),"") | K29: =IFERROR(ROUND(IF(I29=0,"0",IF(C29="L",F29*D29-E29*D29,E29*D29-F29*D29)/I29),1),"") | Q29: =IF(H29=0,"",IF(C29="L",P29*D29-E29*D29,E29*D29-P29*D29)) | R29: =IF(H29=0,"",0.5*V29/100+16) | S29: =IF(H29=0,"",Q29-R29) | T29: =IF(D29=0,"",S29/H29) | U29: =IF(H29=0,"",S29/I29) | V29: =IF(H29=0,"",E29*D29) | W29: =IF(D29=0,"",W28+1) | X29: =IF(D29=0,"",IF(S29>0,1,0)) | Y29: =IF(D29=0,"",SUM(X29+Y28))
I30: =IF(G30=0,"",IF(C30="L",E30-G30,G30-E30)*D30) | J30: =IFERROR(IF(H30=0,"",I30/H30),"") | K30: =IFERROR(ROUND(IF(I30=0,"0",IF(C30="L",F30*D30-E30*D30,E30*D30-F30*D30)/I30),1),"") | Q30: =IF(H30=0,"",IF(C30="L",P30*D30-E30*D30,E30*D30-P30*D30)) | R30: =IF(H30=0,"",0.5*V30/100+16) | S30: =IF(H30=0,"",Q30-R30) | T30: =IF(D30=0,"",S30/H30) | U30: =IF(H30=0,"",S30/I30) | V30: =IF(H30=0,"",E30*D30) | W30: =IF(D30=0,"",W29+1) | X30: =IF(D30=0,"",IF(S30>0,1,0)) | Y30: =IF(D30=0,"",SUM(X30+Y29))
I31: =IF(G31=0,"",IF(C31="L",E31-G31,G31-E31)*D31) | J31: =IFERROR(IF(H31=0,"",I31/H31),"") | K31: =IFERROR(ROUND(IF(I31=0,"0",IF(C31="L",F31*D31-E31*D31,E31*D31-F31*D31)/I31),1),"") | Q31: =IF(H31=0,"",IF(C31="L",P31*D31-E31*D31,E31*D31-P31*D31)) | R31: =IF(H31=0,"",0.5*V31/100+16) | S31: =IF(H31=0,"",Q31-R31) | T31: =IF(D31=0,"",S31/H31) | U31: =IF(H31=0,"",S31/I31) | V31: =IF(H31=0,"",E31*D31) | W31: =IF(D31=0,"",W30+1) | X31: =IF(D31=0,"",IF(S31>0,1,0)) | Y31: =IF(D31=0,"",SUM(X31+Y30))
I32: =IF(G32=0,"",IF(C32="L",E32-G32,G32-E32)*D32) | J32: =IFERROR(IF(H32=0,"",I32/H32),"") | K32: =IFERROR(ROUND(IF(I32=0,"0",IF(C32="L",F32*D32-E32*D32,E32*D32-F32*D32)/I32),1),"") | Q32: =IF(H32=0,"",IF(C32="L",P32*D32-E32*D32,E32*D32-P32*D32)) | R32: =IF(H32=0,"",0.5*V32/100+16) | S32: =IF(H32=0,"",Q32-R32) | T32: =IF(D32=0,"",S32/H32) | U32: =IF(H32=0,"",S32/I32) | V32: =IF(H32=0,"",E32*D32) | W32: =IF(D32=0,"",W31+1) | X32: =IF(D32=0,"",IF(S32>0,1,0)) | Y32: =IF(D32=0,"",SUM(X32+Y31))
I33: =IF(G33=0,"",IF(C33="L",E33-G33,G33-E33)*D33) | J33: =IFERROR(IF(H33=0,"",I33/H33),"") | K33: =IFERROR(ROUND(IF(I33=0,"0",IF(C33="L",F33*D33-E33*D33,E33*D33-F33*D33)/I33),1),"") | Q33: =IF(H33=0,"",IF(C33="L",P33*D33-E33*D33,E33*D33-P33*D33)) | R33: =IF(H33=0,"",0.5*V33/100+16) | S33: =IF(H33=0,"",Q33-R33) | T33: =IF(D33=0,"",S33/H33) | U33: =IF(H33=0,"",S33/I33) | V33: =IF(H33=0,"",E33*D33) | W33: =IF(D33=0,"",W32+1) | X33: =IF(D33=0,"",IF(S33>0,1,0)) | Y33: =IF(D33=0,"",SUM(X33+Y32))
... I202: =IF(G202=0,"",IF(C202="L",E202-G202,G202-E202)*D202) | J202: =IFERROR(IF(H202=0,"",I202/H202),"") | K202: =IFERROR(ROUND(IF(I202=0,"0",IF(C202="L",F202*D202-E202*D202,E202*D202-F202*D202)/I202),1),"") | Q202: =IF(H202=0,"",IF(C202="L",P202*D202-E202*D202,E202*D202-P202*D202)) | R202: =IF(H202=0,"",0.5*V202/100+16) | S202: =IF(H202=0,"",Q202-R202) | T202: =IF(D202=0,"",S202/H202) | U202: =IF(H202=0,"",S202/I202) | V202: =IF(H202=0,"",E202*D202) | W202: =IF(D202=0,"",W201+1) | X202: =IF(D202=0,"",IF(S202>0,1,0)) | Y202: =IF(D202=0,"",SUM(X202+Y201))

Sheet Forex
A1: Forex
A2: Currency Pair | B2: B/S | C2: Stake | D2: Entry price | E2: Target | F2: Stop | G2: Capital | H2: Cap. Risk | I2: Cap. Risk % | J2: Potential Rwd | K2: Rwd/Risk Ratio | L2: Entry date: | M2: time | N2: Exit date: | O2: time | P2: Exit price | Q2: Points W/L | R2: P/L | S2: % P/L Cap | T2: R multiple | U2: # | V2: W/L | W2: Sum W | X2: Platform | Y2: Strategy | Z2: Reason for success / fail | AA2: Comment | AB2: Analysis
H3: =IF(G3=0,"",IF(B3="B",D3-F3,F3-D3)*C3*10000) | I3: =IFERROR(H3/G3,"") | J3: =IF(G3=0,"",IF(B3="S",D3-E3,E3-D3)*C3*10000) | K3: =IF(G3=0,"",J3/H3) | Q3: =IF(C3=0,"",IF(B3="B",P3-D3,D3-P3)*10000) | R3: =IF(C3=0,"",IF(B3="B",P3*C3-D3*C3,D3*C3-P3*C3)*10000) | S3: =IF(C3=0,"",R3/G3) | T3: =IFERROR(R3/H3,"") | U3: =IF(C3=0,"",#REF!+1) | V3: =IF(C3=0,"",IF(S3>0,1,0)) | W3: =IF(C3=0,"",SUM(V3+#REF!)) | AB3: P/L | AC3: =SUM(R3:R198) -> 0
H4: =IF(G4=0,"",IF(B4="B",D4-F4,F4-D4)*C4*10000) | I4: =IFERROR(H4/G4,"") | J4: =IF(G4=0,"",IF(B4="S",D4-E4,E4-D4)*C4*10000) | K4: =IF(G4=0,"",J4/H4) | Q4: =IF(C4=0,"",IF(B4="B",P4-D4,D4-P4)*10000) | R4: =IF(C4=0,"",IF(B4="B",P4*C4-D4*C4,D4*C4-P4*C4)*10000) | S4: =IF(C4=0,"",R4/G4) | T4: =IFERROR(R4/H4,"") | U4: =IF(C4=0,"",U3+1) | V4: =IF(C4=0,"",IF(S4>0,1,0)) | W4: =IF(C4=0,"",SUM(V4+W3)) | AB4: Total points W/L | AC4: =SUM(Q3:Q198) -> 0
H5: =IF(G5=0,"",IF(B5="B",D5-F5,F5-D5)*C5*10000) | I5: =IFERROR(H5/G5,"") | J5: =IF(G5=0,"",IF(B5="S",D5-E5,E5-D5)*C5*10000) | K5: =IF(G5=0,"",J5/H5) | Q5: =IF(C5=0,"",IF(B5="B",P5-D5,D5-P5)*10000) | R5: =IF(C5=0,"",IF(B5="B",P5*C5-D5*C5,D5*C5-P5*C5)*10000) | S5: =IF(C5=0,"",R5/G5) | T5: =IFERROR(R5/H5,"") | U5: =IF(C5=0,"",U4+1) | V5: =IF(C5=0,"",IF(S5>0,1,0)) | W5: =IF(C5=0,"",SUM(V5+W4)) | AB5: % of winners | AC5: =AC10/AC12 -> #DIV/0!
H6: =IF(G6=0,"",IF(B6="B",D6-F6,F6-D6)*C6*10000) | I6: =IFERROR(H6/G6,"") | J6: =IF(G6=0,"",IF(B6="S",D6-E6,E6-D6)*C6*10000) | K6: =IF(G6=0,"",J6/H6) | Q6: =IF(C6=0,"",IF(B6="B",P6-D6,D6-P6)*10000) | R6: =IF(C6=0,"",IF(B6="B",P6*C6-D6*C6,D6*C6-P6*C6)*10000) | S6: =IF(C6=0,"",R6/G6) | T6: =IFERROR(R6/H6,"") | U6: =IF(C6=0,"",U5+1) | V6: =IF(C6=0,"",IF(S6>0,1,0)) | W6: =IF(C6=0,"",SUM(V6+W5)) | AB6: % of losers | AC6: =AC11/AC12 -> #DIV/0!
H7: =IF(G7=0,"",IF(B7="B",D7-F7,F7-D7)*C7*10000) | I7: =IFERROR(H7/G7,"") | J7: =IF(G7=0,"",IF(B7="S",D7-E7,E7-D7)*C7*10000) | K7: =IF(G7=0,"",J7/H7) | Q7: =IF(C7=0,"",IF(B7="B",P7-D7,D7-P7)*10000) | R7: =IF(C7=0,"",IF(B7="B",P7*C7-D7*C7,D7*C7-P7*C7)*10000) | S7: =IF(C7=0,"",R7/G7) | T7: =IFERROR(R7/H7,"") | U7: =IF(C7=0,"",U6+1) | V7: =IF(C7=0,"",IF(S7>0,1,0)) | W7: =IF(C7=0,"",SUM(V7+W6)) | AB7: Avg P/L per trade | AC7: =AC3/AC12 -> #DIV/0!
H8: =IF(G8=0,"",IF(B8="B",D8-F8,F8-D8)*C8*10000) | I8: =IFERROR(H8/G8,"") | J8: =IF(G8=0,"",IF(B8="S",D8-E8,E8-D8)*C8*10000) | K8: =IF(G8=0,"",J8/H8) | Q8: =IF(C8=0,"",IF(B8="B",P8-D8,D8-P8)*10000) | R8: =IF(C8=0,"",IF(B8="B",P8*C8-D8*C8,D8*C8-P8*C8)*10000) | S8: =IF(C8=0,"",R8/G8) | T8: =IFERROR(R8/H8,"") | U8: =IF(C8=0,"",U7+1) | V8: =IF(C8=0,"",IF(S8>0,1,0)) | W8: =IF(C8=0,"",SUM(V8+W7)) | AB8: Avg % loss on losers | AC8: =AVERAGEIF(V3:V198,"=0",S3:S198) -> #DIV/0!
H9: =IF(G9=0,"",IF(B9="B",D9-F9,F9-D9)*C9*10000) | I9: =IFERROR(H9/G9,"") | J9: =IF(G9=0,"",IF(B9="S",D9-E9,E9-D9)*C9*10000) | K9: =IF(G9=0,"",J9/H9) | Q9: =IF(C9=0,"",IF(B9="B",P9-D9,D9-P9)*10000) | R9: =IF(C9=0,"",IF(B9="B",P9*C9-D9*C9,D9*C9-P9*C9)*10000) | S9: =IF(C9=0,"",R9/G9) | T9: =IFERROR(R9/H9,"") | U9: =IF(C9=0,"",U8+1) | V9: =IF(C9=0,"",IF(S9>0,1,0)) | W9: =IF(C9=0,"",SUM(V9+W8)) | AB9: Avg % profit on winners | AC9: =AVERAGEIF(V3:V198,"=1",S3:S198) -> #DIV/0!
H10: =IF(G10=0,"",IF(B10="B",D10-F10,F10-D10)*C10*10000) | I10: =IFERROR(H10/G10,"") | J10: =IF(G10=0,"",IF(B10="S",D10-E10,E10-D10)*C10*10000) | K10: =IF(G10=0,"",J10/H10) | Q10: =IF(C10=0,"",IF(B10="B",P10-D10,D10-P10)*10000) | R10: =IF(C10=0,"",IF(B10="B",P10*C10-D10*C10,D10*C10-P10*C10)*10000) | S10: =IF(C10=0,"",R10/G10) | T10: =IFERROR(R10/H10,"") | U10: =IF(C10=0,"",U9+1) | V10: =IF(C10=0,"",IF(S10>0,1,0)) | W10: =IF(C10=0,"",SUM(V10+W9)) | AB10: Number of winners | AC10: =SUM(V3:V198) -> 0
H11: =IF(G11=0,"",IF(B11="B",D11-F11,F11-D11)*C11*10000) | I11: =IFERROR(H11/G11,"") | J11: =IF(G11=0,"",IF(B11="S",D11-E11,E11-D11)*C11*10000) | K11: =IF(G11=0,"",J11/H11) | Q11: =IF(C11=0,"",IF(B11="B",P11-D11,D11-P11)*10000) | R11: =IF(C11=0,"",IF(B11="B",P11*C11-D11*C11,D11*C11-P11*C11)*10000) | S11: =IF(C11=0,"",R11/G11) | T11: =IFERROR(R11/H11,"") | U11: =IF(C11=0,"",U10+1) | V11: =IF(C11=0,"",IF(S11>0,1,0)) | W11: =IF(C11=0,"",SUM(V11+W10)) | AB11: Number of losers | AC11: =COUNTIF(V3:V198,0) -> 0
H12: =IF(G12=0,"",IF(B12="B",D12-F12,F12-D12)*C12*10000) | I12: =IFERROR(H12/G12,"") | J12: =IF(G12=0,"",IF(B12="S",D12-E12,E12-D12)*C12*10000) | K12: =IF(G12=0,"",J12/H12) | Q12: =IF(C12=0,"",IF(B12="B",P12-D12,D12-P12)*10000) | R12: =IF(C12=0,"",IF(B12="B",P12*C12-D12*C12,D12*C12-P12*C12)*10000) | S12: =IF(C12=0,"",R12/G12) | T12: =IFERROR(R12/H12,"") | U12: =IF(C12=0,"",U11+1) | V12: =IF(C12=0,"",IF(S12>0,1,0)) | W12: =IF(C12=0,"",SUM(V12+W11)) | AB12: Number of trades | AC12: =SUM(AC10:AC11) -> 0
H13: =IF(G13=0,"",IF(B13="B",D13-F13,F13-D13)*C13*10000) | I13: =IFERROR(H13/G13,"") | J13: =IF(G13=0,"",IF(B13="S",D13-E13,E13-D13)*C13*10000) | K13: =IF(G13=0,"",J13/H13) | Q13: =IF(C13=0,"",IF(B13="B",P13-D13,D13-P13)*10000) | R13: =IF(C13=0,"",IF(B13="B",P13*C13-D13*C13,D13*C13-P13*C13)*10000) | S13: =IF(C13=0,"",R13/G13) | T13: =IFERROR(R13/H13,"") | U13: =IF(C13=0,"",U12+1) | V13: =IF(C13=0,"",IF(S13>0,1,0)) | W13: =IF(C13=0,"",SUM(V13+W12)) | AB13: Hours spent | AC13: 4
H14: =IF(G14=0,"",IF(B14="B",D14-F14,F14-D14)*C14*10000) | I14: =IFERROR(H14/G14,"") | J14: =IF(G14=0,"",IF(B14="S",D14-E14,E14-D14)*C14*10000) | K14: =IF(G14=0,"",J14/H14) | Q14: =IF(C14=0,"",IF(B14="B",P14-D14,D14-P14)*10000) | R14: =IF(C14=0,"",IF(B14="B",P14*C14-D14*C14,D14*C14-P14*C14)*10000) | S14: =IF(C14=0,"",R14/G14) | T14: =IFERROR(R14/H14,"") | U14: =IF(C14=0,"",U13+1) | V14: =IF(C14=0,"",IF(S14>0,1,0)) | W14: =IF(C14=0,"",SUM(V14+W13)) | AB14: P/L per hour | AC14: =AC3/AC13 -> 0
H15: =IF(G15=0,"",IF(B15="B",D15-F15,F15-D15)*C15*10000) | I15: =IFERROR(H15/G15,"") | J15: =IF(G15=0,"",IF(B15="S",D15-E15,E15-D15)*C15*10000) | K15: =IF(G15=0,"",J15/H15) | Q15: =IF(C15=0,"",IF(B15="B",P15-D15,D15-P15)*10000) | R15: =IF(C15=0,"",IF(B15="B",P15*C15-D15*C15,D15*C15-P15*C15)*10000) | S15: =IF(C15=0,"",R15/G15) | T15: =IFERROR(R15/H15,"") | U15: =IF(C15=0,"",U14+1) | V15: =IF(C15=0,"",IF(S15>0,1,0)) | W15: =IF(C15=0,"",SUM(V15+W14)) | AB15: Total profits | AC15: =SUMIF(V3:V198,">0",R3:R198) -> 0
H16: =IF(G16=0,"",IF(B16="B",D16-F16,F16-D16)*C16*10000) | I16: =IFERROR(H16/G16,"") | J16: =IF(G16=0,"",IF(B16="S",D16-E16,E16-D16)*C16*10000) | K16: =IF(G16=0,"",J16/H16) | Q16: =IF(C16=0,"",IF(B16="B",P16-D16,D16-P16)*10000) | R16: =IF(C16=0,"",IF(B16="B",P16*C16-D16*C16,D16*C16-P16*C16)*10000) | S16: =IF(C16=0,"",R16/G16) | T16: =IFERROR(R16/H16,"") | U16: =IF(C16=0,"",U15+1) | V16: =IF(C16=0,"",IF(S16>0,1,0)) | W16: =IF(C16=0,"",SUM(V16+W15)) | AB16: Total losses | AC16: =SUMIF(V3:V198,"=0",R3:R198) -> 0
H17: =IF(G17=0,"",IF(B17="B",D17-F17,F17-D17)*C17*10000) | I17: =IFERROR(H17/G17,"") | J17: =IF(G17=0,"",IF(B17="S",D17-E17,E17-D17)*C17*10000) | K17: =IF(G17=0,"",J17/H17) | Q17: =IF(C17=0,"",IF(B17="B",P17-D17,D17-P17)*10000) | R17: =IF(C17=0,"",IF(B17="B",P17*C17-D17*C17,D17*C17-P17*C17)*10000) | S17: =IF(C17=0,"",R17/G17) | T17: =IFERROR(R17/H17,"") | U17: =IF(C17=0,"",U16+1) | V17: =IF(C17=0,"",IF(S17>0,1,0)) | W17: =IF(C17=0,"",SUM(V17+W16)) | AB17: Total % gains | AC17: =SUMIF(V3:V198,">0",S3:S198) -> 0
H18: =IF(G18=0,"",IF(B18="B",D18-F18,F18-D18)*C18*10000) | I18: =IFERROR(H18/G18,"") | J18: =IF(G18=0,"",IF(B18="S",D18-E18,E18-D18)*C18*10000) | K18: =IF(G18=0,"",J18/H18) | Q18: =IF(C18=0,"",IF(B18="B",P18-D18,D18-P18)*10000) | R18: =IF(C18=0,"",IF(B18="B",P18*C18-D18*C18,D18*C18-P18*C18)*10000) | S18: =IF(C18=0,"",R18/G18) | T18: =IFERROR(R18/H18,"") | U18: =IF(C18=0,"",U17+1) | V18: =IF(C18=0,"",IF(S18>0,1,0)) | W18: =IF(C18=0,"",SUM(V18+W17)) | AB18: Total % losses | AC18: =SUMIF(V3:V198,"=0",S3:S198) -> 0
H19: =IF(G19=0,"",IF(B19="B",D19-F19,F19-D19)*C19*10000) | I19: =IFERROR(H19/G19,"") | J19: =IF(G19=0,"",IF(B19="S",D19-E19,E19-D19)*C19*10000) | K19: =IF(G19=0,"",J19/H19) | Q19: =IF(C19=0,"",IF(B19="B",P19-D19,D19-P19)*10000) | R19: =IF(C19=0,"",IF(B19="B",P19*C19-D19*C19,D19*C19-P19*C19)*10000) | S19: =IF(C19=0,"",R19/G19) | T19: =IFERROR(R19/H19,"") | U19: =IF(C19=0,"",U18+1) | V19: =IF(C19=0,"",IF(S19>0,1,0)) | W19: =IF(C19=0,"",SUM(V19+W18)) | AB19: Risk/reward ratio | AC19: =AVERAGE(K3:K198) -> #DIV/0!
H20: =IF(G20=0,"",IF(B20="B",D20-F20,F20-D20)*C20*10000) | I20: =IFERROR(H20/G20,"") | J20: =IF(G20=0,"",IF(B20="S",D20-E20,E20-D20)*C20*10000) | K20: =IF(G20=0,"",J20/H20) | Q20: =IF(C20=0,"",IF(B20="B",P20-D20,D20-P20)*10000) | R20: =IF(C20=0,"",IF(B20="B",P20*C20-D20*C20,D20*C20-P20*C20)*10000) | S20: =IF(C20=0,"",R20/G20) | T20: =IFERROR(R20/H20,"") | U20: =IF(C20=0,"",U19+1) | V20: =IF(C20=0,"",IF(S20>0,1,0)) | W20: =IF(C20=0,"",SUM(V20+W19)) | AB20: Expectancy | AC20: =AVERAGE(T3:T198) -> #DIV/0!
H21: =IF(G21=0,"",IF(B21="B",D21-F21,F21-D21)*C21*10000) | I21: =IFERROR(H21/G21,"") | J21: =IF(G21=0,"",IF(B21="S",D21-E21,E21-D21)*C21*10000) | K21: =IF(G21=0,"",J21/H21) | Q21: =IF(C21=0,"",IF(B21="B",P21-D21,D21-P21)*10000) | R21: =IF(C21=0,"",IF(B21="B",P21*C21-D21*C21,D21*C21-P21*C21)*10000) | S21: =IF(C21=0,"",R21/G21) | T21: =IFERROR(R21/H21,"") | U21: =IF(C21=0,"",U20+1) | V21: =IF(C21=0,"",IF(S21>0,1,0)) | W21: =IF(C21=0,"",SUM(V21+W20))
H22: =IF(G22=0,"",IF(B22="B",D22-F22,F22-D22)*C22*10000) | I22: =IFERROR(H22/G22,"") | J22: =IF(G22=0,"",IF(B22="S",D22-E22,E22-D22)*C22*10000) | K22: =IF(G22=0,"",J22/H22) | Q22: =IF(C22=0,"",IF(B22="B",P22-D22,D22-P22)*10000) | R22: =IF(C22=0,"",IF(B22="B",P22*C22-D22*C22,D22*C22-P22*C22)*10000) | S22: =IF(C22=0,"",R22/G22) | T22: =IFERROR(R22/H22,"") | U22: =IF(C22=0,"",U21+1) | V22: =IF(C22=0,"",IF(S22>0,1,0)) | W22: =IF(C22=0,"",SUM(V22+W21))
H23: =IF(G23=0,"",IF(B23="B",D23-F23,F23-D23)*C23*10000) | I23: =IFERROR(H23/G23,"") | J23: =IF(G23=0,"",IF(B23="S",D23-E23,E23-D23)*C23*10000) | K23: =IF(G23=0,"",J23/H23) | Q23: =IF(C23=0,"",IF(B23="B",P23-D23,D23-P23)*10000) | R23: =IF(C23=0,"",IF(B23="B",P23*C23-D23*C23,D23*C23-P23*C23)*10000) | S23: =IF(C23=0,"",R23/G23) | T23: =IFERROR(R23/H23,"") | U23: =IF(C23=0,"",U22+1) | V23: =IF(C23=0,"",IF(S23>0,1,0)) | W23: =IF(C23=0,"",SUM(V23+W22))
H24: =IF(G24=0,"",IF(B24="B",D24-F24,F24-D24)*C24*10000) | I24: =IFERROR(H24/G24,"") | J24: =IF(G24=0,"",IF(B24="S",D24-E24,E24-D24)*C24*10000) | K24: =IF(G24=0,"",J24/H24) | Q24: =IF(C24=0,"",IF(B24="B",P24-D24,D24-P24)*10000) | R24: =IF(C24=0,"",IF(B24="B",P24*C24-D24*C24,D24*C24-P24*C24)*10000) | S24: =IF(C24=0,"",R24/G24) | T24: =IFERROR(R24/H24,"") | U24: =IF(C24=0,"",U23+1) | V24: =IF(C24=0,"",IF(S24>0,1,0)) | W24: =IF(C24=0,"",SUM(V24+W23))
H25: =IF(G25=0,"",IF(B25="B",D25-F25,F25-D25)*C25*10000) | I25: =IFERROR(H25/G25,"") | J25: =IF(G25=0,"",IF(B25="S",D25-E25,E25-D25)*C25*10000) | K25: =IF(G25=0,"",J25/H25) | Q25: =IF(C25=0,"",IF(B25="B",P25-D25,D25-P25)*10000) | R25: =IF(C25=0,"",IF(B25="B",P25*C25-D25*C25,D25*C25-P25*C25)*10000) | S25: =IF(C25=0,"",R25/G25) | T25: =IFERROR(R25/H25,"") | U25: =IF(C25=0,"",U24+1) | V25: =IF(C25=0,"",IF(S25>0,1,0)) | W25: =IF(C25=0,"",SUM(V25+W24))
H26: =IF(G26=0,"",IF(B26="B",D26-F26,F26-D26)*C26*10000) | I26: =IFERROR(H26/G26,"") | J26: =IF(G26=0,"",IF(B26="S",D26-E26,E26-D26)*C26*10000) | K26: =IF(G26=0,"",J26/H26) | Q26: =IF(C26=0,"",IF(B26="B",P26-D26,D26-P26)*10000) | R26: =IF(C26=0,"",IF(B26="B",P26*C26-D26*C26,D26*C26-P26*C26)*10000) | S26: =IF(C26=0,"",R26/G26) | T26: =IFERROR(R26/H26,"") | U26: =IF(C26=0,"",U25+1) | V26: =IF(C26=0,"",IF(S26>0,1,0)) | W26: =IF(C26=0,"",SUM(V26+W25))
H27: =IF(G27=0,"",IF(B27="B",D27-F27,F27-D27)*C27*10000) | I27: =IFERROR(H27/G27,"") | J27: =IF(G27=0,"",IF(B27="S",D27-E27,E27-D27)*C27*10000) | K27: =IF(G27=0,"",J27/H27) | Q27: =IF(C27=0,"",IF(B27="B",P27-D27,D27-P27)*10000) | R27: =IF(C27=0,"",IF(B27="B",P27*C27-D27*C27,D27*C27-P27*C27)*10000) | S27: =IF(C27=0,"",R27/G27) | T27: =IFERROR(R27/H27,"") | U27: =IF(C27=0,"",U26+1) | V27: =IF(C27=0,"",IF(S27>0,1,0)) | W27: =IF(C27=0,"",SUM(V27+W26))
H28: =IF(G28=0,"",IF(B28="B",D28-F28,F28-D28)*C28*10000) | I28: =IFERROR(H28/G28,"") | J28: =IF(G28=0,"",IF(B28="S",D28-E28,E28-D28)*C28*10000) | K28: =IF(G28=0,"",J28/H28) | Q28: =IF(C28=0,"",IF(B28="B",P28-D28,D28-P28)*10000) | R28: =IF(C28=0,"",IF(B28="B",P28*C28-D28*C28,D28*C28-P28*C28)*10000) | S28: =IF(C28=0,"",R28/G28) | T28: =IFERROR(R28/H28,"") | U28: =IF(C28=0,"",U27+1) | V28: =IF(C28=0,"",IF(S28>0,1,0)) | W28: =IF(C28=0,"",SUM(V28+W27))
H29: =IF(G29=0,"",IF(B29="B",D29-F29,F29-D29)*C29*10000) | I29: =IFERROR(H29/G29,"") | J29: =IF(G29=0,"",IF(B29="S",D29-E29,E29-D29)*C29*10000) | K29: =IF(G29=0,"",J29/H29) | Q29: =IF(C29=0,"",IF(B29="B",P29-D29,D29-P29)*10000) | R29: =IF(C29=0,"",IF(B29="B",P29*C29-D29*C29,D29*C29-P29*C29)*10000) | S29: =IF(C29=0,"",R29/G29) | T29: =IFERROR(R29/H29,"") | U29: =IF(C29=0,"",U28+1) | V29: =IF(C29=0,"",IF(S29>0,1,0)) | W29: =IF(C29=0,"",SUM(V29+W28))
H30: =IF(G30=0,"",IF(B30="B",D30-F30,F30-D30)*C30*10000) | I30: =IFERROR(H30/G30,"") | J30: =IF(G30=0,"",IF(B30="S",D30-E30,E30-D30)*C30*10000) | K30: =IF(G30=0,"",J30/H30) | Q30: =IF(C30=0,"",IF(B30="B",P30-D30,D30-P30)*10000) | R30: =IF(C30=0,"",IF(B30="B",P30*C30-D30*C30,D30*C30-P30*C30)*10000) | S30: =IF(C30=0,"",R30/G30) | T30: =IFERROR(R30/H30,"") | U30: =IF(C30=0,"",U29+1) | V30: =IF(C30=0,"",IF(S30>0,1,0)) | W30: =IF(C30=0,"",SUM(V30+W29))
H31: =IF(G31=0,"",IF(B31="B",D31-F31,F31-D31)*C31*10000) | I31: =IFERROR(H31/G31,"") | J31: =IF(G31=0,"",IF(B31="S",D31-E31,E31-D31)*C31*10000) | K31: =IF(G31=0,"",J31/H31) | Q31: =IF(C31=0,"",IF(B31="B",P31-D31,D31-P31)*10000) | R31: =IF(C31=0,"",IF(B31="B",P31*C31-D31*C31,D31*C31-P31*C31)*10000) | S31: =IF(C31=0,"",R31/G31) | T31: =IFERROR(R31/H31,"") | U31: =IF(C31=0,"",U30+1) | V31: =IF(C31=0,"",IF(S31>0,1,0)) | W31: =IF(C31=0,"",SUM(V31+W30))
H32: =IF(G32=0,"",IF(B32="B",D32-F32,F32-D32)*C32*10000) | I32: =IFERROR(H32/G32,"") | J32: =IF(G32=0,"",IF(B32="S",D32-E32,E32-D32)*C32*10000) | K32: =IF(G32=0,"",J32/H32) | Q32: =IF(C32=0,"",IF(B32="B",P32-D32,D32-P32)*10000) | R32: =IF(C32=0,"",IF(B32="B",P32*C32-D32*C32,D32*C32-P32*C32)*10000) | S32: =IF(C32=0,"",R32/G32) | T32: =IFERROR(R32/H32,"") | U32: =IF(C32=0,"",U31+1) | V32: =IF(C32=0,"",IF(S32>0,1,0)) | W32: =IF(C32=0,"",SUM(V32+W31))
... H198: =IF(G198=0,"",IF(B198="B",D198-F198,F198-D198)*C198*10000) | I198: =IFERROR(H198/G198,"") | J198: =IF(G198=0,"",IF(B198="S",D198-E198,E198-D198)*C198*10000) | K198: =IF(G198=0,"",J198/H198) | Q198: =IF(C198=0,"",IF(B198="B",P198-D198,D198-P198)*10000) | R198: =IF(C198=0,"",IF(B198="B",P198*C198-D198*C198,D198*C198-P198*C198)*10000) | S198: =IF(C198=0,"",R198/G198) | T198: =IFERROR(R198/H198,"") | U198: =IF(C198=0,"",U197+1) | V198: =IF(C198=0,"",IF(S198>0,1,0)) | W198: =IF(C198=0,"",SUM(V198+W197))

Sheet Spread B
A1: Spread Bets
A2: Stock | B2: Epic | C2: L/S | D2: Stake | E2: Entry price | F2: Target | G2: Stop | H2: Capital | I2: Cap. Risk | J2: Cap. Risk % | K2: Rwd/Risk Ratio | L2: Entry date: | M2: time | N2: Exit date: | O2: time | P2: Exit price | Q2: Points W/L | R2: P/L | S2: % P/L Cap | T2: R multiple | U2: # | V2: W/L | W2: Sum W | X2: Platform | Y2: Strategy | Z2: Reason for success / fail | AA2: Comment | AB2: Analysis
I3: =IF(G3=0,"",IF(C3="L",E3-G3,G3-E3)*D3) | J3: =IFERROR(IF(H3=0,"",I3/H3),"") | K3: =IFERROR(ROUND(IF(I3=0,"0",IF(C3="L",F3*D3-E3*D3,E3*D3-F3*D3)/I3),1),"") | Q3: =IF(D3=0,"",IF(C3="L",P3-E3,E3-P3)) | R3: =IF(D3=0,"",IF(C3="L",P3*D3-E3*D3,E3*D3-P3*D3)) | S3: =IF(D3=0,"",R3/H3) | T3: =IF(H3=0,"",R3/I3) | U3: =IF(D3=0,"",#REF!+1) | V3: =IF(D3=0,"",IF(S3>0,1,0)) | W3: =V3 | AB3: P/L | AC3: =SUM(R3:R199) -> 0
I4: =IF(G4=0,"",IF(C4="L",E4-G4,G4-E4)*D4) | J4: =IFERROR(IF(H4=0,"",I4/H4),"") | K4: =IFERROR(ROUND(IF(I4=0,"0",IF(C4="L",F4*D4-E4*D4,E4*D4-F4*D4)/I4),1),"") | Q4: =IF(D4=0,"",IF(C4="L",P4-E4,E4-P4)) | R4: =IF(D4=0,"",IF(C4="L",P4*D4-E4*D4,E4*D4-P4*D4)) | S4: =IF(D4=0,"",R4/H4) | T4: =IF(H4=0,"",R4/I4) | U4: =IF(D4=0,"",U3+1) | V4: =IF(D4=0,"",IF(S4>0,1,0)) | W4: =V4 | AB4: Total points W/L | AC4: =SUM(Q3:Q199) -> 0
I5: =IF(G5=0,"",IF(C5="L",E5-G5,G5-E5)*D5) | J5: =IFERROR(IF(H5=0,"",I5/H5),"") | K5: =IFERROR(ROUND(IF(I5=0,"0",IF(C5="L",F5*D5-E5*D5,E5*D5-F5*D5)/I5),1),"") | Q5: =IF(D5=0,"",IF(C5="L",P5-E5,E5-P5)) | R5: =IF(D5=0,"",IF(C5="L",P5*D5-E5*D5,E5*D5-P5*D5)) | S5: =IF(D5=0,"",R5/H5) | T5: =IF(H5=0,"",R5/I5) | U5: =IF(D5=0,"",U4+1) | V5: =IF(D5=0,"",IF(S5>0,1,0)) | W5: =V5 | AB5: % of winners | AC5: =AC10/AC12 -> #DIV/0!
I6: =IF(G6=0,"",IF(C6="L",E6-G6,G6-E6)*D6) | J6: =IFERROR(IF(H6=0,"",I6/H6),"") | K6: =IFERROR(ROUND(IF(I6=0,"0",IF(C6="L",F6*D6-E6*D6,E6*D6-F6*D6)/I6),1),"") | Q6: =IF(D6=0,"",IF(C6="L",P6-E6,E6-P6)) | R6: =IF(D6=0,"",IF(C6="L",P6*D6-E6*D6,E6*D6-P6*D6)) | S6: =IF(D6=0,"",R6/H6) | T6: =IF(H6=0,"",R6/I6) | U6: =IF(D6=0,"",U5+1) | V6: =IF(D6=0,"",IF(S6>0,1,0)) | W6: =V6 | AB6: % of losers | AC6: =AC11/AC12 -> #DIV/0!
I7: =IF(G7=0,"",IF(C7="L",E7-G7,G7-E7)*D7) | J7: =IFERROR(IF(H7=0,"",I7/H7),"") | K7: =IFERROR(ROUND(IF(I7=0,"0",IF(C7="L",F7*D7-E7*D7,E7*D7-F7*D7)/I7),1),"") | Q7: =IF(D7=0,"",IF(C7="L",P7-E7,E7-P7)) | R7: =IF(D7=0,"",IF(C7="L",P7*D7-E7*D7,E7*D7-P7*D7)) | S7: =IF(D7=0,"",R7/H7) | T7: =IF(H7=0,"",R7/I7) | U7: =IF(D7=0,"",U6+1) | V7: =IF(D7=0,"",IF(S7>0,1,0)) | W7: =V7 | AB7: Avg P/L per trade | AC7: =AC3/AC12 -> #DIV/0!
I8: =IF(G8=0,"",IF(C8="L",E8-G8,G8-E8)*D8) | J8: =IFERROR(IF(H8=0,"",I8/H8),"") | K8: =IFERROR(ROUND(IF(I8=0,"0",IF(C8="L",F8*D8-E8*D8,E8*D8-F8*D8)/I8),1),"") | Q8: =IF(D8=0,"",IF(C8="L",P8-E8,E8-P8)) | R8: =IF(D8=0,"",IF(C8="L",P8*D8-E8*D8,E8*D8-P8*D8)) | S8: =IF(D8=0,"",R8/H8) | T8: =IF(H8=0,"",R8/I8) | U8: =IF(D8=0,"",U7+1) | V8: =IF(D8=0,"",IF(S8>0,1,0)) | W8: =V8 | AB8: Avg % loss on losers | AC8: =AVERAGEIF(V3:V199,"=0",S3:S199) -> #DIV/0!
I9: =IF(G9=0,"",IF(C9="L",E9-G9,G9-E9)*D9) | J9: =IFERROR(IF(H9=0,"",I9/H9),"") | K9: =IFERROR(ROUND(IF(I9=0,"0",IF(C9="L",F9*D9-E9*D9,E9*D9-F9*D9)/I9),1),"") | Q9: =IF(D9=0,"",IF(C9="L",P9-E9,E9-P9)) | R9: =IF(D9=0,"",IF(C9="L",P9*D9-E9*D9,E9*D9-P9*D9)) | S9: =IF(D9=0,"",R9/H9) | T9: =IF(H9=0,"",R9/I9) | U9: =IF(D9=0,"",U8+1) | V9: =IF(D9=0,"",IF(S9>0,1,0)) | W9: =V9 | AB9: Avg % profit on winners | AC9: =AVERAGEIF(V3:V199,"=1",S3:S199) -> #DIV/0!
I10: =IF(G10=0,"",IF(C10="L",E10-G10,G10-E10)*D10) | J10: =IFERROR(IF(H10=0,"",I10/H10),"") | K10: =IFERROR(ROUND(IF(I10=0,"0",IF(C10="L",F10*D10-E10*D10,E10*D10-F10*D10)/I10),1),"") | Q10: =IF(D10=0,"",IF(C10="L",P10-E10,E10-P10)) | R10: =IF(D10=0,"",IF(C10="L",P10*D10-E10*D10,E10*D10-P10*D10)) | S10: =IF(D10=0,"",R10/H10) | T10: =IF(H10=0,"",R10/I10) | U10: =IF(D10=0,"",U9+1) | V10: =IF(D10=0,"",IF(S10>0,1,0)) | W10: =V10 | AB10: Number of winners | AC10: =SUM(V3:V199) -> 0
I11: =IF(G11=0,"",IF(C11="L",E11-G11,G11-E11)*D11) | J11: =IFERROR(IF(H11=0,"",I11/H11),"") | K11: =IFERROR(ROUND(IF(I11=0,"0",IF(C11="L",F11*D11-E11*D11,E11*D11-F11*D11)/I11),1),"") | Q11: =IF(D11=0,"",IF(C11="L",P11-E11,E11-P11)) | R11: =IF(D11=0,"",IF(C11="L",P11*D11-E11*D11,E11*D11-P11*D11)) | S11: =IF(D11=0,"",R11/H11) | T11: =IF(H11=0,"",R11/I11) | U11: =IF(D11=0,"",U10+1) | V11: =IF(D11=0,"",IF(S11>0,1,0)) | W11: =V11 | AB11: Number of losers | AC11: =COUNTIF(V3:V199,0) -> 0
I12: =IF(G12=0,"",IF(C12="L",E12-G12,G12-E12)*D12) | J12: =IFERROR(IF(H12=0,"",I12/H12),"") | K12: =IFERROR(ROUND(IF(I12=0,"0",IF(C12="L",F12*D12-E12*D12,E12*D12-F12*D12)/I12),1),"") | Q12: =IF(D12=0,"",IF(C12="L",P12-E12,E12-P12)) | R12: =IF(D12=0,"",IF(C12="L",P12*D12-E12*D12,E12*D12-P12*D12)) | S12: =IF(D12=0,"",R12/H12) | T12: =IF(H12=0,"",R12/I12) | U12: =IF(D12=0,"",U11+1) | V12: =IF(D12=0,"",IF(S12>0,1,0)) | W12: =V12 | AB12: Number of trades | AC12: =SUM(AC10:AC11) -> 0
I13: =IF(G13=0,"",IF(C13="L",E13-G13,G13-E13)*D13) | J13: =IFERROR(IF(H13=0,"",I13/H13),"") | K13: =IFERROR(ROUND(IF(I13=0,"0",IF(C13="L",F13*D13-E13*D13,E13*D13-F13*D13)/I13),1),"") | Q13: =IF(D13=0,"",IF(C13="L",P13-E13,E13-P13)) | R13: =IF(D13=0,"",IF(C13="L",P13*D13-E13*D13,E13*D13-P13*D13)) | S13: =IF(D13=0,"",R13/H13) | T13: =IF(H13=0,"",R13/I13) | U13: =IF(D13=0,"",U12+1) | V13: =IF(D13=0,"",IF(S13>0,1,0)) | W13: =V13 | AB13: Hours spent | AC13: 3
I14: =IF(G14=0,"",IF(C14="L",E14-G14,G14-E14)*D14) | J14: =IFERROR(IF(H14=0,"",I14/H14),"") | K14: =IFERROR(ROUND(IF(I14=0,"0",IF(C14="L",F14*D14-E14*D14,E14*D14-F14*D14)/I14),1),"") | Q14: =IF(D14=0,"",IF(C14="L",P14-E14,E14-P14)) | R14: =IF(D14=0,"",IF(C14="L",P14*D14-E14*D14,E14*D14-P14*D14)) | S14: =IF(D14=0,"",R14/H14) | T14: =IF(H14=0,"",R14/I14) | U14: =IF(D14=0,"",U13+1) | V14: =IF(D14=0,"",IF(S14>0,1,0)) | W14: =V14 | AB14: P/L per hour | AC14: =AC3/AC13 -> 0
I15: =IF(G15=0,"",IF(C15="L",E15-G15,G15-E15)*D15) | J15: =IFERROR(IF(H15=0,"",I15/H15),"") | K15: =IFERROR(ROUND(IF(I15=0,"0",IF(C15="L",F15*D15-E15*D15,E15*D15-F15*D15)/I15),1),"") | Q15: =IF(D15=0,"",IF(C15="L",P15-E15,E15-P15)) | R15: =IF(D15=0,"",IF(C15="L",P15*D15-E15*D15,E15*D15-P15*D15)) | S15: =IF(D15=0,"",R15/H15) | T15: =IF(H15=0,"",R15/I15) | U15: =IF(D15=0,"",U14+1) | V15: =IF(D15=0,"",IF(S15>0,1,0)) | W15: =V15 | AB15: Total profits | AC15: =SUMIF(V3:V199,">0",R3:R199) -> 0
I16: =IF(G16=0,"",IF(C16="L",E16-G16,G16-E16)*D16) | J16: =IFERROR(IF(H16=0,"",I16/H16),"") | K16: =IFERROR(ROUND(IF(I16=0,"0",IF(C16="L",F16*D16-E16*D16,E16*D16-F16*D16)/I16),1),"") | Q16: =IF(D16=0,"",IF(C16="L",P16-E16,E16-P16)) | R16: =IF(D16=0,"",IF(C16="L",P16*D16-E16*D16,E16*D16-P16*D16)) | S16: =IF(D16=0,"",R16/H16) | T16: =IF(H16=0,"",R16/I16) | U16: =IF(D16=0,"",U15+1) | V16: =IF(D16=0,"",IF(S16>0,1,0)) | W16: =V16 | AB16: Total losses | AC16: =SUMIF(V3:V199,"=0",R3:R199) -> 0
I17: =IF(G17=0,"",IF(C17="L",E17-G17,G17-E17)*D17) | J17: =IFERROR(IF(H17=0,"",I17/H17),"") | K17: =IFERROR(ROUND(IF(I17=0,"0",IF(C17="L",F17*D17-E17*D17,E17*D17-F17*D17)/I17),1),"") | Q17: =IF(D17=0,"",IF(C17="L",P17-E17,E17-P17)) | R17: =IF(D17=0,"",IF(C17="L",P17*D17-E17*D17,E17*D17-P17*D17)) | S17: =IF(D17=0,"",R17/H17) | T17: =IF(H17=0,"",R17/I17) | U17: =IF(D17=0,"",U16+1) | V17: =IF(D17=0,"",IF(S17>0,1,0)) | W17: =V17 | AB17: Total % gains | AC17: =SUMIF(V3:V199,">0",S3:S199) -> 0
I18: =IF(G18=0,"",IF(C18="L",E18-G18,G18-E18)*D18) | J18: =IFERROR(IF(H18=0,"",I18/H18),"") | K18: =IFERROR(ROUND(IF(I18=0,"0",IF(C18="L",F18*D18-E18*D18,E18*D18-F18*D18)/I18),1),"") | Q18: =IF(D18=0,"",IF(C18="L",P18-E18,E18-P18)) | R18: =IF(D18=0,"",IF(C18="L",P18*D18-E18*D18,E18*D18-P18*D18)) | S18: =IF(D18=0,"",R18/H18) | T18: =IF(H18=0,"",R18/I18) | U18: =IF(D18=0,"",U17+1) | V18: =IF(D18=0,"",IF(S18>0,1,0)) | W18: =V18 | AB18: Total % losses | AC18: =SUMIF(V3:V199,"=0",S3:S199) -> 0
I19: =IF(G19=0,"",IF(C19="L",E19-G19,G19-E19)*D19) | J19: =IFERROR(IF(H19=0,"",I19/H19),"") | K19: =IFERROR(ROUND(IF(I19=0,"0",IF(C19="L",F19*D19-E19*D19,E19*D19-F19*D19)/I19),1),"") | Q19: =IF(D19=0,"",IF(C19="L",P19-E19,E19-P19)) | R19: =IF(D19=0,"",IF(C19="L",P19*D19-E19*D19,E19*D19-P19*D19)) | S19: =IF(D19=0,"",R19/H19) | T19: =IF(H19=0,"",R19/I19) | U19: =IF(D19=0,"",U18+1) | V19: =IF(D19=0,"",IF(S19>0,1,0)) | W19: =V19 | AB19: Risk/reward ratio | AC19: =AVERAGEIF(D3:D199,">0",K3:K199) -> #DIV/0!
I20: =IF(G20=0,"",IF(C20="L",E20-G20,G20-E20)*D20) | J20: =IFERROR(IF(H20=0,"",I20/H20),"") | K20: =IFERROR(ROUND(IF(I20=0,"0",IF(C20="L",F20*D20-E20*D20,E20*D20-F20*D20)/I20),1),"") | Q20: =IF(D20=0,"",IF(C20="L",P20-E20,E20-P20)) | R20: =IF(D20=0,"",IF(C20="L",P20*D20-E20*D20,E20*D20-P20*D20)) | S20: =IF(D20=0,"",R20/H20) | T20: =IF(H20=0,"",R20/I20) | U20: =IF(D20=0,"",U19+1) | V20: =IF(D20=0,"",IF(S20>0,1,0)) | W20: =V20 | AB20: Expectancy | AC20: =AVERAGE(T3:T199) -> #DIV/0!
I21: =IF(G21=0,"",IF(C21="L",E21-G21,G21-E21)*D21) | J21: =IFERROR(IF(H21=0,"",I21/H21),"") | K21: =IFERROR(ROUND(IF(I21=0,"0",IF(C21="L",F21*D21-E21*D21,E21*D21-F21*D21)/I21),1),"") | Q21: =IF(D21=0,"",IF(C21="L",P21-E21,E21-P21)) | R21: =IF(D21=0,"",IF(C21="L",P21*D21-E21*D21,E21*D21-P21*D21)) | S21: =IF(D21=0,"",R21/H21) | T21: =IF(H21=0,"",R21/I21) | U21: =IF(D21=0,"",U20+1) | V21: =IF(D21=0,"",IF(S21>0,1,0)) | W21: =V21
I22: =IF(G22=0,"",IF(C22="L",E22-G22,G22-E22)*D22) | J22: =IFERROR(IF(H22=0,"",I22/H22),"") | K22: =IFERROR(ROUND(IF(I22=0,"0",IF(C22="L",F22*D22-E22*D22,E22*D22-F22*D22)/I22),1),"") | Q22: =IF(D22=0,"",IF(C22="L",P22-E22,E22-P22)) | R22: =IF(D22=0,"",IF(C22="L",P22*D22-E22*D22,E22*D22-P22*D22)) | S22: =IF(D22=0,"",R22/H22) | T22: =IF(H22=0,"",R22/I22) | U22: =IF(D22=0,"",U21+1) | V22: =IF(D22=0,"",IF(S22>0,1,0)) | W22: =V22
I23: =IF(G23=0,"",IF(C23="L",E23-G23,G23-E23)*D23) | J23: =IFERROR(IF(H23=0,"",I23/H23),"") | K23: =IFERROR(ROUND(IF(I23=0,"0",IF(C23="L",F23*D23-E23*D23,E23*D23-F23*D23)/I23),1),"") | Q23: =IF(D23=0,"",IF(C23="L",P23-E23,E23-P23)) | R23: =IF(D23=0,"",IF(C23="L",P23*D23-E23*D23,E23*D23-P23*D23)) | S23: =IF(D23=0,"",R23/H23) | T23: =IF(H23=0,"",R23/I23) | U23: =IF(D23=0,"",U22+1) | V23: =IF(D23=0,"",IF(S23>0,1,0)) | W23: =V23
I24: =IF(G24=0,"",IF(C24="L",E24-G24,G24-E24)*D24) | J24: =IFERROR(IF(H24=0,"",I24/H24),"") | K24: =IFERROR(ROUND(IF(I24=0,"0",IF(C24="L",F24*D24-E24*D24,E24*D24-F24*D24)/I24),1),"") | Q24: =IF(D24=0,"",IF(C24="L",P24-E24,E24-P24)) | R24: =IF(D24=0,"",IF(C24="L",P24*D24-E24*D24,E24*D24-P24*D24)) | S24: =IF(D24=0,"",R24/H24) | T24: =IF(H24=0,"",R24/I24) | U24: =IF(D24=0,"",U23+1) | V24: =IF(D24=0,"",IF(S24>0,1,0)) | W24: =V24
I25: =IF(G25=0,"",IF(C25="L",E25-G25,G25-E25)*D25) | J25: =IFERROR(IF(H25=0,"",I25/H25),"") | K25: =IFERROR(ROUND(IF(I25=0,"0",IF(C25="L",F25*D25-E25*D25,E25*D25-F25*D25)/I25),1),"") | Q25: =IF(D25=0,"",IF(C25="L",P25-E25,E25-P25)) | R25: =IF(D25=0,"",IF(C25="L",P25*D25-E25*D25,E25*D25-P25*D25)) | S25: =IF(D25=0,"",R25/H25) | T25: =IF(H25=0,"",R25/I25) | U25: =IF(D25=0,"",U24+1) | V25: =IF(D25=0,"",IF(S25>0,1,0)) | W25: =V25
I26: =IF(G26=0,"",IF(C26="L",E26-G26,G26-E26)*D26) | J26: =IFERROR(IF(H26=0,"",I26/H26),"") | K26: =IFERROR(ROUND(IF(I26=0,"0",IF(C26="L",F26*D26-E26*D26,E26*D26-F26*D26)/I26),1),"") | Q26: =IF(D26=0,"",IF(C26="L",P26-E26,E26-P26)) | R26: =IF(D26=0,"",IF(C26="L",P26*D26-E26*D26,E26*D26-P26*D26)) | S26: =IF(D26=0,"",R26/H26) | T26: =IF(H26=0,"",R26/I26) | U26: =IF(D26=0,"",U25+1) | V26: =IF(D26=0,"",IF(S26>0,1,0)) | W26: =V26
I27: =IF(G27=0,"",IF(C27="L",E27-G27,G27-E27)*D27) | J27: =IFERROR(IF(H27=0,"",I27/H27),"") | K27: =IFERROR(ROUND(IF(I27=0,"0",IF(C27="L",F27*D27-E27*D27,E27*D27-F27*D27)/I27),1),"") | Q27: =IF(D27=0,"",IF(C27="L",P27-E27,E27-P27)) | R27: =IF(D27=0,"",IF(C27="L",P27*D27-E27*D27,E27*D27-P27*D27)) | S27: =IF(D27=0,"",R27/H27) | T27: =IF(H27=0,"",R27/I27) | U27: =IF(D27=0,"",U26+1) | V27: =IF(D27=0,"",IF(S27>0,1,0)) | W27: =V27
I28: =IF(G28=0,"",IF(C28="L",E28-G28,G28-E28)*D28) | J28: =IFERROR(IF(H28=0,"",I28/H28),"") | K28: =IFERROR(ROUND(IF(I28=0,"0",IF(C28="L",F28*D28-E28*D28,E28*D28-F28*D28)/I28),1),"") | Q28: =IF(D28=0,"",IF(C28="L",P28-E28,E28-P28)) | R28: =IF(D28=0,"",IF(C28="L",P28*D28-E28*D28,E28*D28-P28*D28)) | S28: =IF(D28=0,"",R28/H28) | T28: =IF(H28=0,"",R28/I28) | U28: =IF(D28=0,"",U27+1) | V28: =IF(D28=0,"",IF(S28>0,1,0)) | W28: =V28
I29: =IF(G29=0,"",IF(C29="L",E29-G29,G29-E29)*D29) | J29: =IFERROR(IF(H29=0,"",I29/H29),"") | K29: =IFERROR(ROUND(IF(I29=0,"0",IF(C29="L",F29*D29-E29*D29,E29*D29-F29*D29)/I29),1),"") | Q29: =IF(D29=0,"",IF(C29="L",P29-E29,E29-P29)) | R29: =IF(D29=0,"",IF(C29="L",P29*D29-E29*D29,E29*D29-P29*D29)) | S29: =IF(D29=0,"",R29/H29) | T29: =IF(H29=0,"",R29/I29) | U29: =IF(D29=0,"",U28+1) | V29: =IF(D29=0,"",IF(S29>0,1,0)) | W29: =V29
I30: =IF(G30=0,"",IF(C30="L",E30-G30,G30-E30)*D30) | J30: =IFERROR(IF(H30=0,"",I30/H30),"") | K30: =IFERROR(ROUND(IF(I30=0,"0",IF(C30="L",F30*D30-E30*D30,E30*D30-F30*D30)/I30),1),"") | Q30: =IF(D30=0,"",IF(C30="L",P30-E30,E30-P30)) | R30: =IF(D30=0,"",IF(C30="L",P30*D30-E30*D30,E30*D30-P30*D30)) | S30: =IF(D30=0,"",R30/H30) | T30: =IF(H30=0,"",R30/I30) | U30: =IF(D30=0,"",U29+1) | V30: =IF(D30=0,"",IF(S30>0,1,0)) | W30: =V30
I31: =IF(G31=0,"",IF(C31="L",E31-G31,G31-E31)*D31) | J31: =IFERROR(IF(H31=0,"",I31/H31),"") | K31: =IFERROR(ROUND(IF(I31=0,"0",IF(C31="L",F31*D31-E31*D31,E31*D31-F31*D31)/I31),1),"") | Q31: =IF(D31=0,"",IF(C31="L",P31-E31,E31-P31)) | R31: =IF(D31=0,"",IF(C31="L",P31*D31-E31*D31,E31*D31-P31*D31)) | S31: =IF(D31=0,"",R31/H31) | T31: =IF(H31=0,"",R31/I31) | U31: =IF(D31=0,"",U30+1) | V31: =IF(D31=0,"",IF(S31>0,1,0)) | W31: =V31
I32: =IF(G32=0,"",IF(C32="L",E32-G32,G32-E32)*D32) | J32: =IFERROR(IF(H32=0,"",I32/H32),"") | K32: =IFERROR(ROUND(IF(I32=0,"0",IF(C32="L",F32*D32-E32*D32,E32*D32-F32*D32)/I32),1),"") | Q32: =IF(D32=0,"",IF(C32="L",P32-E32,E32-P32)) | R32: =IF(D32=0,"",IF(C32="L",P32*D32-E32*D32,E32*D32-P32*D32)) | S32: =IF(D32=0,"",R32/H32) | T32: =IF(H32=0,"",R32/I32) | U32: =IF(D32=0,"",U31+1) | V32: =IF(D32=0,"",IF(S32>0,1,0)) | W32: =V32
... I201: =IF(G201=0,"",IF(C201="L",E201-G201,G201-E201)*D201) | J201: =IFERROR(IF(H201=0,"",I201/H201),"") | K201: =IFERROR(ROUND(IF(I201=0,"0",IF(C201="L",F201*D201-E201*D201,E201*D201-F201*D201)/I201),1),"") | Q201: =IF(D201=0,"",IF(C201="L",P201-E201,E201-P201)) | R201: =IF(D201=0,"",IF(C201="L",P201*D201-E201*D201,E201*D201-P201*D201)) | S201: =IF(D201=0,"",R201/H201) | T201: =IF(H201=0,"",R201/I201) | U201: =IF(D201=0,"",U200+1) | V201: =IF(D201=0,"",IF(S201>0,1,0)) | W201: =V201

Sheet ALL TRADES TOTAL
B4: All trades total
B6: P/L | C6: =SUM(Equities!AD3,Forex!AC3,'Spread B'!AC3) -> 12.5
B7: Total points W/L | C7: =SUM(Equities!AD4,Forex!AC4,'Spread B'!AC4) -> 12.5
B8: Avg % of winners | C8: =AVERAGE(Equities!AD6,Forex!AC5,'Spread B'!AC5) -> #DIV/0!
B9: Avg % of losers | C9: =AVERAGE(Equities!AD6,Forex!AC6,'Spread B'!AC6) -> #DIV/0!
B10: Avg P/L per trade | C10: =AVERAGE(Equities!AD8,Forex!AC7,'Spread B'!AC7) -> #DIV/0!
B11: Avg % loss on losers | C11: =AVERAGE(Equities!AD9,Forex!AC8,'Spread B'!AC8) -> #DIV/0!
B12: Avg % profit on winners | C12: =AVERAGE(Equities!AD10,Forex!AC9,'Spread B'!AC9) -> #DIV/0!
B13: Number of winners | C13: =SUM(Equities!AD11,Forex!AC10,'Spread B'!AC10) -> 1
B14: Number of losers | C14: =SUM(Equities!AD12,Forex!AC11,'Spread B'!AC11) -> 0
B15: Number of trades | C15: =SUM(Equities!AD13,Forex!AC12,'Spread B'!AC12) -> 1
B16: Hours spent | C16: 10
B17: P/L per hour | C17: =C6/C16 -> 1.25
B18: Total profits | C18: =SUM(Equities!AD16,Forex!AC15,'Spread B'!AC15) -> 12.5
B19: Total losses | C19: =SUM(Equities!AD17,Forex!AC16,'Spread B'!AC16) -> 0
B20: Total % gains | C20: =SUM(Equities!AD18,Forex!AC17,'Spread B'!AC17) -> 0.0125
B21: Total % losses | C21: =SUM(Equities!AD19,Forex!AC18,'Spread B'!AC18) -> 0
B22: Risk/reward ratio | C22: =SUM(Equities!AD20,Forex!AC19,'Spread B'!AC19) -> #DIV/0!
B23: Expectancy | C23: =SUM(Equities!AD21,Forex!AC20,'Spread B'!AC20) -> #DIV/0!
