Workbook

Sheet Graphs
X1: Total | Y1: Trades | Z1: Avg
W2: 0 | X2: =(SUMIF(Data!O:O,W2,Data!I:I)+SUMIF(Data!O:O,W2,Data!J:J)) -> -2.91 | Y2: =COUNTIFS(Data!O:O,Graphs!W2,Data!K:K,"O") -> 12 | Z2: =IFERROR(X2/Y2,0) -> -0.2425
W3: 1 | X3: =(SUMIF(Data!O:O,W3,Data!I:I)+SUMIF(Data!O:O,W3,Data!J:J)) -> 11.93 | Y3: =COUNTIFS(Data!O:O,Graphs!W3,Data!K:K,"O") -> 7 | Z3: =IFERROR(X3/Y3,0) -> 1.7042857
W4: 2 | X4: =(SUMIF(Data!O:O,W4,Data!I:I)+SUMIF(Data!O:O,W4,Data!J:J)) -> -4.18 | Y4: =COUNTIFS(Data!O:O,Graphs!W4,Data!K:K,"O") -> 15 | Z4: =IFERROR(X4/Y4,0) -> -0.27866667
W5: 3 | X5: =(SUMIF(Data!O:O,W5,Data!I:I)+SUMIF(Data!O:O,W5,Data!J:J)) -> 5.97 | Y5: =COUNTIFS(Data!O:O,Graphs!W5,Data!K:K,"O") -> 11 | Z5: =IFERROR(X5/Y5,0) -> 0.54272727
W6: 4 | X6: =(SUMIF(Data!O:O,W6,Data!I:I)+SUMIF(Data!O:O,W6,Data!J:J)) -> -0.38 | Y6: =COUNTIFS(Data!O:O,Graphs!W6,Data!K:K,"O") -> 0 | Z6: =IFERROR(X6/Y6,0) -> 0
W7: 5 | X7: =(SUMIF(Data!O:O,W7,Data!I:I)+SUMIF(Data!O:O,W7,Data!J:J)) -> 0 | Y7: =COUNTIFS(Data!O:O,Graphs!W7,Data!K:K,"O") -> 0 | Z7: =IFERROR(X7/Y7,0) -> 0
W8: 6 | X8: =(SUMIF(Data!O:O,W8,Data!I:I)+SUMIF(Data!O:O,W8,Data!J:J)) -> 0 | Y8: =COUNTIFS(Data!O:O,Graphs!W8,Data!K:K,"O") -> 0 | Z8: =IFERROR(X8/Y8,0) -> 0
W9: 7 | X9: =(SUMIF(Data!O:O,W9,Data!I:I)+SUMIF(Data!O:O,W9,Data!J:J)) -> 0 | Y9: =COUNTIFS(Data!O:O,Graphs!W9,Data!K:K,"O") -> 0 | Z9: =IFERROR(X9/Y9,0) -> 0
W10: 8 | X10: =(SUMIF(Data!O:O,W10,Data!I:I)+SUMIF(Data!O:O,W10,Data!J:J)) -> 0 | Y10: =COUNTIFS(Data!O:O,Graphs!W10,Data!K:K,"O") -> 0 | Z10: =IFERROR(X10/Y10,0) -> 0
W11: 9 | X11: =(SUMIF(Data!O:O,W11,Data!I:I)+SUMIF(Data!O:O,W11,Data!J:J)) -> 0 | Y11: =COUNTIFS(Data!O:O,Graphs!W11,Data!K:K,"O") -> 0 | Z11: =IFERROR(X11/Y11,0) -> 0
W12: 10 | X12: =(SUMIF(Data!O:O,W12,Data!I:I)+SUMIF(Data!O:O,W12,Data!J:J)) -> 0 | Y12: =COUNTIFS(Data!O:O,Graphs!W12,Data!K:K,"O") -> 0 | Z12: =IFERROR(X12/Y12,0) -> 0
W13: 11 | X13: =(SUMIF(Data!O:O,W13,Data!I:I)+SUMIF(Data!O:O,W13,Data!J:J)) -> 0 | Y13: =COUNTIFS(Data!O:O,Graphs!W13,Data!K:K,"O") -> 0 | Z13: =IFERROR(X13/Y13,0) -> 0
... W25: 23 | X25: =(SUMIF(Data!O:O,W25,Data!I:I)+SUMIF(Data!O:O,W25,Data!J:J)) -> -4.49 | Y25: =COUNTIFS(Data!O:O,Graphs!W25,Data!K:K,"O") -> 4 | Z25: =IFERROR(X25/Y25,0) -> -1.1225
D28: Avg Win | E28: =SUMIF(Data!I:I,">0")/COUNTIF(Data!K:K,"O") -> 1.4895588 | F28: =E28/500 -> 0.0029791176 | G28: Avg Loss | H28: =SUMIF(Data!I:I,"<0")/COUNTIF(Data!I:I,"<0") -> -1.67 | I28: =H28/500 -> -0.00334
D29: Max Win | E29: =MAX(Data!I:I) -> 5.12 | F29: =E29/500 -> 0.01024 | G29: Max Loss | H29: =MIN(Data!I:I) -> -9.76 | I29: =H29/500 -> -0.01952
D31: Profit | E31: =SUM(X2:X25) -> 8.8 | F31: =(500+E31)/500 - 1 -> 0.0176 | G31: Win Ratio | H31: =COUNTIF(Data!I:I,">0")/(COUNTIF(Data!I:I,">0")+COUNTIF(Data!I:I,"<0")) -> 0.64
A33: Date | B33: # Trds | C33: Income | D33: Comm. | E33: Profit
A34: 40833 | B34: =COUNTIFS(Data!N:N,Graphs!A34,Data!K:K,"O") -> 8 | C34: =SUMIF(Data!N:N,Graphs!A34,Data!I:I) -> 3.86 | D34: =SUMIF(Data!N:N,INT(Graphs!A34),Data!J:J) -> -1.76 | E34: =C34+D34 -> 2.1
A35: 40834 | B35: =COUNTIFS(Data!N:N,Graphs!A35,Data!K:K,"O") -> 8 | C35: =SUMIF(Data!N:N,Graphs!A35,Data!I:I) -> -12.33 | D35: =SUMIF(Data!N:N,INT(Graphs!A35),Data!J:J) -> -2.37 | E35: =C35+D35 -> -14.7
A36: 40835 | B36: =COUNTIFS(Data!N:N,Graphs!A36,Data!K:K,"O") -> 11 | C36: =SUMIF(Data!N:N,Graphs!A36,Data!I:I) -> 4.42 | D36: =SUMIF(Data!N:N,INT(Graphs!A36),Data!J:J) -> -3.09 | E36: =C36+D36 -> 1.33
A37: 40836 | B37: =COUNTIFS(Data!N:N,Graphs!A37,Data!K:K,"O") -> 9 | C37: =SUMIF(Data!N:N,Graphs!A37,Data!I:I) -> 5.78 | D37: =SUMIF(Data!N:N,INT(Graphs!A37),Data!J:J) -> -1.34 | E37: =C37+D37 -> 4.44
A38: 40837 | B38: =COUNTIFS(Data!N:N,Graphs!A38,Data!K:K,"O") -> 1 | C38: =SUMIF(Data!N:N,Graphs!A38,Data!I:I) -> 3.71 | D38: =SUMIF(Data!N:N,INT(Graphs!A38),Data!J:J) -> -0.23 | E38: =C38+D38 -> 3.48
A39: 40839 | B39: =COUNTIFS(Data!N:N,Graphs!A39,Data!K:K,"O") -> 1 | C39: =SUMIF(Data!N:N,Graphs!A39,Data!I:I) -> 3.25 | D39: =SUMIF(Data!N:N,INT(Graphs!A39),Data!J:J) -> -0.23 | E39: =C39+D39 -> 3.02
A40: 40840 | B40: =COUNTIFS(Data!N:N,Graphs!A40,Data!K:K,"O") -> 6 | C40: =SUMIF(Data!N:N,Graphs!A40,Data!I:I) -> -7.4 | D40: =SUMIF(Data!N:N,INT(Graphs!A40),Data!J:J) -> -1.93 | E40: =C40+D40 -> -9.33
A41: 40841 | B41: =COUNTIFS(Data!N:N,Graphs!A41,Data!K:K,"O") -> 5 | C41: =SUMIF(Data!N:N,Graphs!A41,Data!I:I) -> 3.73 | D41: =SUMIF(Data!N:N,INT(Graphs!A41),Data!J:J) -> -1.22 | E41: =C41+D41 -> 2.51
A42: 40842 | B42: =COUNTIFS(Data!N:N,Graphs!A42,Data!K:K,"O") -> 6 | C42: =SUMIF(Data!N:N,Graphs!A42,Data!I:I) -> 11.21 | D42: =SUMIF(Data!N:N,INT(Graphs!A42),Data!J:J) -> -1.5 | E42: =C42+D42 -> 9.71
A43: 40843 | B43: =COUNTIFS(Data!N:N,Graphs!A43,Data!K:K,"O") -> 6 | C43: =SUMIF(Data!N:N,Graphs!A43,Data!I:I) -> 4.09 | D43: =SUMIF(Data!N:N,INT(Graphs!A43),Data!J:J) -> -1.93 | E43: =C43+D43 -> 2.16
A44: 40844 | B44: =COUNTIFS(Data!N:N,Graphs!A44,Data!K:K,"O") -> 5 | C44: =SUMIF(Data!N:N,Graphs!A44,Data!I:I) -> -0.81 | D44: =SUMIF(Data!N:N,INT(Graphs!A44),Data!J:J) -> -1.07 | E44: =C44+D44 -> -1.88
A45: 40846 | B45: =COUNTIFS(Data!N:N,Graphs!A45,Data!K:K,"O") -> 1 | C45: =SUMIF(Data!N:N,Graphs!A45,Data!I:I) -> 3.43 | D45: =SUMIF(Data!N:N,INT(Graphs!A45),Data!J:J) -> -0.49 | E45: =C45+D45 -> 2.94
A46: 40847 | B46: =COUNTIFS(Data!N:N,Graphs!A46,Data!K:K,"O") -> 1 | C46: =SUMIF(Data!N:N,Graphs!A46,Data!I:I) -> 3.2 | D46: =SUMIF(Data!N:N,INT(Graphs!A46),Data!J:J) -> -0.18 | E46: =C46+D46 -> 3.02
B47: =COUNTIFS(Data!N:N,Graphs!A47,Data!K:K,"O") -> 0 | C47: =SUMIF(Data!N:N,Graphs!A47,Data!I:I) -> 0 | D47: =SUMIF(Data!N:N,INT(Graphs!A47),Data!J:J) -> 0 | E47: =C47+D47 -> 0
B48: =COUNTIFS(Data!N:N,Graphs!A48,Data!K:K,"O") -> 0 | C48: =SUMIF(Data!N:N,Graphs!A48,Data!I:I) -> 0 | D48: =SUMIF(Data!N:N,INT(Graphs!A48),Data!J:J) -> 0 | E48: =C48+D48 -> 0
B49: =COUNTIFS(Data!N:N,Graphs!A49,Data!K:K,"O") -> 0 | C49: =SUMIF(Data!N:N,Graphs!A49,Data!I:I) -> 0 | D49: =SUMIF(Data!N:N,INT(Graphs!A49),Data!J:J) -> 0 | E49: =C49+D49 -> 0
B50: =COUNTIFS(Data!N:N,Graphs!A50,Data!K:K,"O") -> 0 | C50: =SUMIF(Data!N:N,Graphs!A50,Data!I:I) -> 0 | D50: =SUMIF(Data!N:N,INT(Graphs!A50),Data!J:J) -> 0 | E50: =C50+D50 -> 0
B51: =COUNTIFS(Data!N:N,Graphs!A51,Data!K:K,"O") -> 0 | C51: =SUMIF(Data!N:N,Graphs!A51,Data!I:I) -> 0 | D51: =SUMIF(Data!N:N,INT(Graphs!A51),Data!J:J) -> 0 | E51: =C51+D51 -> 0
B52: =COUNTIFS(Data!N:N,Graphs!A52,Data!K:K,"O") -> 0 | C52: =SUMIF(Data!N:N,Graphs!A52,Data!I:I) -> 0 | D52: =SUMIF(Data!N:N,INT(Graphs!A52),Data!J:J) -> 0 | E52: =C52+D52 -> 0
B53: =COUNTIFS(Data!N:N,Graphs!A53,Data!K:K,"O") -> 0 | C53: =SUMIF(Data!N:N,Graphs!A53,Data!I:I) -> 0 | D53: =SUMIF(Data!N:N,INT(Graphs!A53),Data!J:J) -> 0 | E53: =C53+D53 -> 0
B54: =COUNTIFS(Data!N:N,Graphs!A54,Data!K:K,"O") -> 0 | C54: =SUMIF(Data!N:N,Graphs!A54,Data!I:I) -> 0 | D54: =SUMIF(Data!N:N,INT(Graphs!A54),Data!J:J) -> 0 | E54: =C54+D54 -> 0
B55: =COUNTIFS(Data!N:N,Graphs!A55,Data!K:K,"O") -> 0 | C55: =SUMIF(Data!N:N,Graphs!A55,Data!I:I) -> 0 | D55: =SUMIF(Data!N:N,INT(Graphs!A55),Data!J:J) -> 0 | E55: =C55+D55 -> 0
B56: =COUNTIFS(Data!N:N,Graphs!A56,Data!K:K,"O") -> 0 | C56: =SUMIF(Data!N:N,Graphs!A56,Data!I:I) -> 0 | D56: =SUMIF(Data!N:N,INT(Graphs!A56),Data!J:J) -> 0 | E56: =C56+D56 -> 0
B57: =COUNTIFS(Data!N:N,Graphs!A57,Data!K:K,"O") -> 0 | C57: =SUMIF(Data!N:N,Graphs!A57,Data!I:I) -> 0 | D57: =SUMIF(Data!N:N,INT(Graphs!A57),Data!J:J) -> 0 | E57: =C57+D57 -> 0
B58: =COUNTIFS(Data!N:N,Graphs!A58,Data!K:K,"O") -> 0 | C58: =SUMIF(Data!N:N,Graphs!A58,Data!I:I) -> 0 | D58: =SUMIF(Data!N:N,INT(Graphs!A58),Data!J:J) -> 0 | E58: =C58+D58 -> 0
... B263: =COUNTIFS(Data!N:N,Graphs!A263,Data!K:K,"O") -> 0 | C263: =SUMIF(Data!N:N,Graphs!A263,Data!I:I) -> 0 | D263: =SUMIF(Data!N:N,INT(Graphs!A263),Data!J:J) -> 0 | E263: =C263+D263 -> 0

Sheet Data
A1: Trade Date | B1: Entry Date | C1: Trade No | D1: Event | E1: Volume | F1: Symbol | G1: Price | H1: Conv. Rate | I1: Gross P&L | J1: Comm | K1: Open/Close | L1: Profit | M1: 20 EMA | N1: Just Day | O1: Just Hour | P1: 20 | Q1: =2/(1+P1) -> 0.095238095
A2: 40833.032 | B2: 40833.032 | C2: 1wve70a:03cc | D2: Sell | E2: 10000 | F2: EUR/USD | G2: 1.38516 | H2: 1.38516 | I2: 0 | J2: -0.41 | K2: O | L2: =J2+I2 -> -0.41 | N2: =INT(A2) -> 40833 | O2: =HOUR(A2) -> 0
A3: 40833.035 | B3: 40833.035 | C3: 1wve70a:03dn | D3: Buy | E3: 1000 | F3: EUR/USD | G3: 1.3849 | H3: 1.38516 | I3: 0.26 | J3: -0.04 | K3: C | L3: =L2+I3+J3 -> -0.19 | N3: =INT(A3) -> 40833 | O3: =HOUR(A3) -> 0
A4: 40833.035 | B4: 40833.035 | C4: 1wve70a:03dn | D4: Buy | E4: 9000 | F4: EUR/USD | G4: 1.38495 | H4: 1.38516 | I4: 1.89 | J4: -0.37 | K4: C | L4: =L3+I4+J4 -> 1.33 | N4: =INT(A4) -> 40833 | O4: =HOUR(A4) -> 0
A5: 40833.139 | B5: 40833.139 | C5: 1wve70a:04dd | D5: Buy | E5: 5000 | F5: EUR/USD | G5: 1.38644 | H5: 1.38644 | I5: 0 | J5: -0.2 | K5: O | L5: =L4+I5+J5 -> 1.13 | N5: =INT(A5) -> 40833 | O5: =HOUR(A5) -> 3
A6: 40833.14 | B6: 40833.14 | C6: 1wve70a:04dj | D6: Sell | E6: 4000 | F6: EUR/USD | G6: 1.38724 | H6: 1.38644 | I6: 3.2 | J6: 0.11 | K6: C | L6: =L5+I6+J6 -> 4.44 | N6: =INT(A6) -> 40833 | O6: =HOUR(A6) -> 3
A7: 40833.141 | B7: 40833.141 | C7: 1wve70a:04ek | D7: Sell | E7: 1000 | F7: EUR/USD | G7: 1.3868 | H7: 1.38644 | I7: 0.36 | J7: -0.04 | K7: C | L7: =L6+I7+J7 -> 4.76 | N7: =INT(A7) -> 40833 | O7: =HOUR(A7) -> 3
A8: 40833.819 | B8: 40833.819 | C8: 1wwe70a:01ip | D8: Buy | E8: 1000 | F8: EUR/USD | G8: 1.37465 | H8: 1.37465 | I8: 0 | J8: -0.04 | K8: O | L8: =L7+I8+J8 -> 4.72 | N8: =INT(A8) -> 40833 | O8: =HOUR(A8) -> 19
A9: 40833.819 | B9: 40833.819 | C9: 1wwe70a:01ip | D9: Buy | E9: 4000 | F9: EUR/USD | G9: 1.37465 | H9: 1.37465 | I9: 0 | J9: -0.16 | K9: O | L9: =L8+I9+J9 -> 4.56 | N9: =INT(A9) -> 40833 | O9: =HOUR(A9) -> 19
A10: 40833.829 | B10: 40833.829 | C10: 1wwe70a:01iv | D10: Sell | E10: 5000 | F10: EUR/USD | G10: 1.37436 | H10: 1.37465 | I10: -1.45 | J10: 0.13 | K10: C | L10: =L9+I10+J10 -> 3.24 | N10: =INT(A10) -> 40833 | O10: =HOUR(A10) -> 19
A11: 40833.924 | B11: 40833.924 | C11: 1wwe70a:02nf | D11: Sell | E11: 5000 | F11: EUR/USD | G11: 1.37622 | H11: 1.37622 | I11: 0 | J11: -0.2 | K11: O | L11: =L10+I11+J11 -> 3.04 | N11: =INT(A11) -> 40833 | O11: =HOUR(A11) -> 22
A12: 40833.929 | B12: 40833.929 | C12: 1wwe70a:02nn | D12: Buy | E12: 5000 | F12: EUR/USD | G12: 1.37542 | H12: 1.37622 | I12: 4 | J12: 0.13 | K12: C | L12: =L11+I12+J12 -> 7.17 | N12: =INT(A12) -> 40833 | O12: =HOUR(A12) -> 22
A13: 40833.948 | B13: 40833.948 | C13: 1wwe70a:02w4 | D13: Buy | E13: 5000 | F13: EUR/USD | G13: 1.3765 | H13: 1.3765 | I13: 0 | J13: -0.2 | K13: O | L13: =L12+I13+J13 -> 6.97 | N13: =INT(A13) -> 40833 | O13: =HOUR(A13) -> 22
A14: 40833.948 | B14: 40833.948 | C14: 1wwe70a:02wn | D14: Sell | E14: 5000 | F14: EUR/USD | G14: 1.37614 | H14: 1.3765 | I14: -1.8 | J14: -0.2 | K14: C | L14: =L13+I14+J14 -> 4.97 | N14: =INT(A14) -> 40833 | O14: =HOUR(A14) -> 22
... A20: 40834.032 | B20: 40834.032 | C20: 1wwe70a:03g6 | D20: Buy | E20: 2500 | F20: EUR/USD | G20: 1.37745 | H20: 1.37755 | I20: 0.25 | J20: -0.1 | K20: C | L20: =L19+I20+J20 -> -2.12 | N20: =INT(A20) -> 40834 | O20: =HOUR(A20) -> 0
A21: 40834.033 | B21: 40834.033 | C21: 1wwe70a:03g8 | D21: Buy | E21: 2500 | F21: EUR/USD | G21: 1.37745 | H21: 1.37755 | I21: 0.25 | J21: 0.07 | K21: C | L21: =L20+I21+J21 -> -1.8 | M21: =SUM(L2:L21)/P1 -> 2.332 | N21: =INT(A21) -> 40834 | O21: =HOUR(A21) -> 0
A22: 40834.035 | B22: 40834.035 | C22: 1wwe70a:03k6 | D22: Sell | E22: 5000 | F22: EUR/USD | G22: 1.37711 | H22: 1.37711 | I22: 0 | J22: -0.2 | K22: O | L22: =L21+I22+J22 -> -2 | M22: =($Q$1*(L22-M21))+M21 -> 1.9194286 | N22: =INT(A22) -> 40834 | O22: =HOUR(A22) -> 0
A23: 40834.039 | B23: 40834.039 | C23: 1wwe70a:03kd | D23: Buy | E23: 2500 | F23: EUR/USD | G23: 1.37755 | H23: 1.37711 | I23: -1.1 | J23: -0.1 | K23: C | L23: =L22+I23+J23 -> -3.2 | M23: =($Q$1*(L23-M22))+M22 -> 1.4318639 | N23: =INT(A23) -> 40834 | O23: =HOUR(A23) -> 0
A24: 40834.039 | B24: 40834.039 | C24: 1wwe70a:03kf | D24: Buy | E24: 2500 | F24: EUR/USD | G24: 1.37755 | H24: 1.37711 | I24: -1.1 | J24: -0.1 | K24: C | L24: =L23+I24+J24 -> -4.4 | M24: =($Q$1*(L24-M23))+M23 -> 0.87644833 | N24: =INT(A24) -> 40834 | O24: =HOUR(A24) -> 0
A25: 40834.045 | B25: 40834.045 | C25: 1wwe70a:03n5 | D25: Buy | E25: 5000 | F25: EUR/USD | G25: 1.37768 | H25: 1.37768 | I25: 0 | J25: -0.2 | K25: O | L25: =L24+I25+J25 -> -4.6 | M25: =($Q$1*(L25-M24))+M24 -> 0.35488182 | N25: =INT(A25) -> 40834 | O25: =HOUR(A25) -> 1
A26: 40834.048 | B26: 40834.048 | C26: 1wwe70a:03o5 | D26: Sell | E26: 5000 | F26: EUR/USD | G26: 1.37748 | H26: 1.37768 | I26: -1 | J26: -0.2 | K26: C | L26: =L25+I26+J26 -> -5.8 | M26: =($Q$1*(L26-M25))+M25 -> -0.2312974 | N26: =INT(A26) -> 40834 | O26: =HOUR(A26) -> 1
A27: 40834.087 | B27: 40834.087 | C27: 1wwe70a:03vw | D27: Sell | E27: 5000 | F27: EUR/USD | G27: 1.37683 | H27: 1.37683 | I27: 0 | J27: -0.2 | K27: O | L27: =L26+I27+J27 -> -6 | M27: =($Q$1*(L27-M26))+M26 -> -0.78069765 | N27: =INT(A27) -> 40834 | O27: =HOUR(A27) -> 2
A28: 40834.088 | B28: 40834.088 | C28: 1wwe70a:03w7 | D28: Buy | E28: 2500 | F28: EUR/USD | G28: 1.37603 | H28: 1.37683 | I28: 2 | J28: 0.07 | K28: C | L28: =L27+I28+J28 -> -3.93 | M28: =($Q$1*(L28-M27))+M27 -> -1.0806312 | N28: =INT(A28) -> 40834 | O28: =HOUR(A28) -> 2
A29: 40834.096 | B29: 40834.096 | C29: 1wwe70a:03w9 | D29: Buy | E29: 2000 | F29: EUR/USD | G29: 1.3754 | H29: 1.37683 | I29: 2.86 | J29: 0.05 | K29: C | L29: =L28+I29+J29 -> -1.02 | M29: =($Q$1*(L29-M28))+M28 -> -1.0748568 | N29: =INT(A29) -> 40834 | O29: =HOUR(A29) -> 2
A30: 40834.096 | B30: 40834.096 | C30: 1wwe70a:03w9 | D30: Buy | E30: 500 | F30: EUR/USD | G30: 1.3754 | H30: 1.37683 | I30: 0.72 | J30: 0.01 | K30: C | L30: =L29+I30+J30 -> -0.29 | M30: =($Q$1*(L30-M29))+M29 -> -1.0001085 | N30: =INT(A30) -> 40834 | O30: =HOUR(A30) -> 2
A31: 40834.16 | B31: 40834.16 | C31: 1wwe70a:04xl | D31: Buy | E31: 5000 | F31: USD/CAD | G31: 1.02432 | H31: 1 | I31: 0 | J31: -0.15 | K31: O | L31: =L30+I31+J31 -> -0.44 | M31: =($Q$1*(L31-M30))+M30 -> -0.94676487 | N31: =INT(A31) -> 40834 | O31: =HOUR(A31) -> 3
A32: 40834.162 | B32: 40834.162 | C32: 1wwe70a:04zg | D32: Sell | E32: 5000 | F32: USD/CAD | G32: 1.02329 | H32: 1 | I32: -5.03 | J32: -0.15 | K32: C | L32: =L31+I32+J32 -> -5.62 | M32: =($Q$1*(L32-M31))+M31 -> -1.3918349 | N32: =INT(A32) -> 40834 | O32: =HOUR(A32) -> 3
A33: 40834.162 | B33: 40834.162 | C33: 1wwe70a:04zq | D33: Sell | E33: 5000 | F33: USD/CAD | G33: 1.02297 | H33: 1 | I33: 0 | J33: -0.15 | K33: O | L33: =L32+I33+J33 -> -5.77 | M33: =($Q$1*(L33-M32))+M32 -> -1.808803 | N33: =INT(A33) -> 40834 | O33: =HOUR(A33) -> 3
... A196: 40847.05 | B196: 40847.05 | C196: 1x9e70a:04k2 | D196: Buy | E196: 1700 | F196: EUR/USD | G196: 1.39997 | H196: 1.3999 | I196: -0.12 | J196: -0.07 | K196: C | L196: =L195+I196+J196 -> 8.8 | M196: =($Q$1*(L196-M195))+M195 -> 5.0379642 | N196: =INT(A196) -> 40847 | O196: =HOUR(A196) -> 1
L197: =L196+I197+J197 -> 8.8 | M197: =($Q$1*(L197-M196))+M196 -> 5.3962533 | N197: =INT(A197) -> 0 | O197: =HOUR(A197) -> 0
L198: =L197+I198+J198 -> 8.8 | M198: =($Q$1*(L198-M197))+M197 -> 5.7204197 | N198: =INT(A198) -> 0 | O198: =HOUR(A198) -> 0
L199: =L198+I199+J199 -> 8.8 | M199: =($Q$1*(L199-M198))+M198 -> 6.013713 | N199: =INT(A199) -> 0 | O199: =HOUR(A199) -> 0
L200: =L199+I200+J200 -> 8.8 | M200: =($Q$1*(L200-M199))+M199 -> 6.2790737 | N200: =INT(A200) -> 0 | O200: =HOUR(A200) -> 0
L201: =L200+I201+J201 -> 8.8 | M201: =($Q$1*(L201-M200))+M200 -> 6.5191619 | N201: =INT(A201) -> 0 | O201: =HOUR(A201) -> 0
L202: =L201+I202+J202 -> 8.8 | M202: =($Q$1*(L202-M201))+M201 -> 6.7363846 | N202: =INT(A202) -> 0 | O202: =HOUR(A202) -> 0
L203: =L202+I203+J203 -> 8.8 | M203: =($Q$1*(L203-M202))+M202 -> 6.9329194 | N203: =INT(A203) -> 0 | O203: =HOUR(A203) -> 0
L204: =L203+I204+J204 -> 8.8 | M204: =($Q$1*(L204-M203))+M203 -> 7.1107366 | N204: =INT(A204) -> 0 | O204: =HOUR(A204) -> 0
L205: =L204+I205+J205 -> 8.8 | M205: =($Q$1*(L205-M204))+M204 -> 7.2716188 | N205: =INT(A205) -> 0 | O205: =HOUR(A205) -> 0
L206: =L205+I206+J206 -> 8.8 | M206: =($Q$1*(L206-M205))+M205 -> 7.4171789 | N206: =INT(A206) -> 0 | O206: =HOUR(A206) -> 0
L207: =L206+I207+J207 -> 8.8 | M207: =($Q$1*(L207-M206))+M206 -> 7.5488762 | N207: =INT(A207) -> 0 | O207: =HOUR(A207) -> 0
L208: =L207+I208+J208 -> 8.8 | M208: =($Q$1*(L208-M207))+M207 -> 7.6680308 | N208: =INT(A208) -> 0 | O208: =HOUR(A208) -> 0
... L1398: =L1397+I1398+J1398 -> 8.8 | M1398: =($Q$1*(L1398-M1397))+M1397 -> 8.8 | N1398: =INT(A1398) -> 0 | O1398: =HOUR(A1398) -> 0
